BEGIN:VCALENDAR
VERSION:2.0
PRODID:-//wp-events-plugin.com//7.2.3.1//EN
TZID:America/Chicago
X-WR-TIMEZONE:America/Chicago
BEGIN:VEVENT
UID:43@jhtraveltours.com
DTSTART;TZID=America/Chicago:20121018T050000
DTEND;TZID=America/Chicago:20121018T231500
DTSTAMP:20120503T022712Z
URL:https://jhtraveltours.com/events/quilt-shop-hop/
SUMMARY:Quilt Shop Hop - #_LOCATIONNAME - 18 Oct 12 05:00
DESCRIPTION:Join JH Travel for our second annual “Quilt Shop Hop” trip 
 – there is not another template for this trip!  Many a new friendship (
 quilt) will be made and backgrounds (fabric) will be pieced together!  Ge
 t ready to sit back\, batting and swaps back &amp\; forth along the way to
  quilt shops in Iowa and Wisconsin – this is not a mystery (quilt). Just
  a sampler (quilt) of the itinerary:\n\nOur first stop will be at The Cott
 on Cabin Quilt Shop in Dubuque\, Iowa and located right beside this quilt 
 shop is Jitterz where a muffin &amp\; coffee or tea (included) will be awa
 iting our group.\n\nWisconsin bound!  Hidden Quilts in Platteville\, WI w
 ill welcome our group next.  Then it is on to Patches And Petals in Belle
 ville\, WI which is a chosen winner for the May\, 2012 Quilt Sampler magaz
 ine!   A lunch box (included) will be delivered to be eaten along the wa
 y to our next quilt shop in Stoughton\, WI which is Saving Thyme quilt sho
 p.  Departing next for Milton\, WI the motor coach will take our quilters
  to Loose Threads.  Life’s A Stitch is next on our agenda at Janesville
 \, WI with our last quilt stop at Attic Quilts in Beloit\, WI. Everyone wi
 ll be hungry by this time and so pizza (included) will be delivered to be 
 eaten as we complete our trip back to Newton.\n\nEveryone that attended th
 e “Quilt Shop Hop 2011” is asked to bring along a finished project tha
 t was purchased on the trip to share with everyone! Bring along as many it
 ems as you would like.  If you would like to bring along a quilt block or
  something to show other quilters your current project please do!\n\nWow!
   This is truly a “Quilt Shop Hop” trip – so don’t miss this patc
 h (quilt)!  A short patchwork synopsis for each stop will be given on Oct
 ober 18th.   Each quilt shop will provide a short program on a quilting 
 or sewing project during our visit! Be sure to contact your friends and br
 ing along your fusible quilting groups! This trip will be binding many new
  friends together and charm (quilts) will be abundant.  Don’t be a craz
 y patch and miss the trip! Sandwich our fun\, talk about UFO’s in your s
 ewing rooms and bring some coins\, but no funny money like fat quarters or
  penny squares.  Let this trip be a great memory (quilt)!\n\nReservation 
 and payment due by October 1\, 2012
CATEGORIES:Day Trip
END:VEVENT
BEGIN:VTIMEZONE
TZID:America/Chicago
X-LIC-LOCATION:America/Chicago
BEGIN:DAYLIGHT
DTSTART:20120311T030000
TZOFFSETFROM:-0600
TZOFFSETTO:-0500
TZNAME:CDT
END:DAYLIGHT
END:VTIMEZONE
END:VCALENDAR