BEGIN:VCALENDAR
VERSION:2.0
PRODID:-//wp-events-plugin.com//7.2.3.1//EN
TZID:America/Chicago
X-WR-TIMEZONE:America/Chicago
BEGIN:VEVENT
UID:190@jhtraveltours.com
DTSTART;TZID=America/Chicago:20160907T054500
DTEND;TZID=America/Chicago:20160907T214500
DTSTAMP:20160603T025737Z
URL:https://jhtraveltours.com/events/quilting-jenny-doan-msqc-2016/
SUMMARY:Quilting with Jenny Doan & MSQC 2016 - #_LOCATIONNAME - 7 Sep 16 05
 :45
DESCRIPTION:Join JH Travel for a day of traveling with friends to see the m
 ost up to date quilting options available where a quilter can shop by coll
 ection\, shop by style or shop by designer which is at Missouri Star Quilt
  Company in Hamilton\, MO.  The company is family owned and has purchased
  many of the closed stores in this small town and remodeled the empty buil
 dings to accommodate the many fabrics &amp\; choices they offer. Be sure t
 o check out the Man's Land building which is a place for the guy's to hang
  out while the ladies shop!\n\nUpon arrival at the Missouri Star Quilt Com
 pany is too\, of course shop!  Be sure to watch your time as we have incl
 uded a tour of the customer service area and warehouse - which our tour is
  scheduled from 11:30 - 12:30 p.m. Back in town for lunch (on your own) an
 d more shopping. Wait\, of course we have a trunk show planned for our gro
 up with Jenny Doan from 3:15 - 5:15 p.m.  Jenny will begin with several d
 ifferent quilt blocks as she explains the different quilting techniques as
  she does regularly on her many tutorials. Bring along your questions and 
 discover the world of quilting!\n\nSadly\, we need to leave the Missouri S
 tar Quilt Co to begin our trip back to Newton.  On our way home we will h
 ave an evening buffet meal (included) at Toot Toot's in Bethany\, MO.  We
  then board our Hawkeye Stages coach to continue our trip back to Newton w
 ith fond memories of our day in Hamilton! Hope to have you join us for a d
 ay of discovery at the Missouri Star Quilt Company!\n\nDepart:  5:45 a.m.
 \nReturn:  9:45 p.m.\n\nCost Per Person:  $137.00\n\nReservation and pay
 ment due by August 19\, 2016 
ATTACH;FMTTYPE=image/jpeg:https://jhtraveltours.com/wp-content/uploads/201
 6/06/Missouri-Star-Quilt-Company.jpg
CATEGORIES:Day Trip
END:VEVENT
BEGIN:VTIMEZONE
TZID:America/Chicago
X-LIC-LOCATION:America/Chicago
BEGIN:DAYLIGHT
DTSTART:20160313T030000
TZOFFSETFROM:-0600
TZOFFSETTO:-0500
TZNAME:CDT
END:DAYLIGHT
END:VTIMEZONE
END:VCALENDAR