BEGIN:VCALENDAR
VERSION:2.0
PRODID:-//wp-events-plugin.com//7.2.3.1//EN
TZID:America/Chicago
X-WR-TIMEZONE:America/Chicago
BEGIN:VEVENT
UID:268@jhtraveltours.com
DTSTART;TZID=America/Chicago:20180905T060000
DTEND;TZID=America/Chicago:20180905T211500
DTSTAMP:20180713T164315Z
URL:https://jhtraveltours.com/events/quilting-with-jenny-doan-msqc-2/
SUMMARY:Quilting with Jenny Doan & MSQC - #_LOCATIONNAME - 5 Sep 18 06:00
DESCRIPTION:Join JH Travel for a day of traveling with friends to see the m
 ost up to date quilting options available where a quilter can shop by coll
 ection\, shop by style or shop by designer which is at Missouri Star Quilt
  Company in Hamilton\, MO.  The company is family owned and has purchased
  many of the closed stores in this small town and remodeled the empty buil
 dings to accommodate the many fabrics &amp\; choices they offer.\n\nUpon a
 rrival at the Missouri Star Quilt Company a greeter will welcome our group
 \, a welcome bag including a map\, MSQC pattern &amp\; goodies will be giv
 en to each quilter along with a catered lunch after our trunk show with Je
 nny Doan. Jenny will begin with several different quilt blocks as she expl
 ains the different quilting techniques as she does regularly on her many t
 utorials. Bring along your questions and discover the world of quilting!\n
 \nSadly\, we need to leave the Missouri Star Quilt Co to begin our trip ba
 ck to Newton.  On our way home we will have an evening meal at the Quilt 
 Country Restaurant in Lamoni\, IA where an evening meal will be served wit
 h dinner salad\, fried chicken\, mashed potatoes\, and apple crisp with ic
 e cream. (They have recently added the Iron Skillet Antique shop - leave a
  little time to browse this also) . We then board our Hawkeye Stages coach
  to continue our trip back to Newton with fond memories of our day in Hami
 lton! Hope to have you join us for a day of discovery at the Missouri Star
  Quilt Company!\n\n**PLEASE NOTE: DUE TO A CHANGE IN POLICY OF MSQC PLEASE
  MAKE YOUR RESERVATIONS PROMPTLY ON THIS TRIP. WE CAN NOT GUARANTEE IF SPA
 CING IS AVAILABLE FOR ADDITIONS AFTER THE DEADLINE. \n\nDepart:  6:00 a.m
 .\nReturn:  9:15 p.m.\n\nCost Per Person:  $164.00\n\nReservation and pa
 yment due by July 26\, 2018
ATTACH;FMTTYPE=image/jpeg:https://jhtraveltours.com/wp-content/uploads/201
 8/06/JennyDoan2.jpg
CATEGORIES:Day Trip
END:VEVENT
BEGIN:VTIMEZONE
TZID:America/Chicago
X-LIC-LOCATION:America/Chicago
BEGIN:DAYLIGHT
DTSTART:20180311T030000
TZOFFSETFROM:-0600
TZOFFSETTO:-0500
TZNAME:CDT
END:DAYLIGHT
END:VTIMEZONE
END:VCALENDAR