BEGIN:VCALENDAR
VERSION:2.0
PRODID:-//wp-events-plugin.com//7.2.3.1//EN
TZID:America/Chicago
X-WR-TIMEZONE:America/Chicago
BEGIN:VEVENT
UID:357@jhtraveltours.com
DTSTART;TZID=America/Chicago:20211021T060000
DTEND;TZID=America/Chicago:20211021T211500
DTSTAMP:20210824T212320Z
URL:https://jhtraveltours.com/events/quilting-with-missouri-star-quilt/
SUMMARY:Quilting with Missouri Star Quilt - #_LOCATIONNAME - 21 Oct 21 06:0
 0
DESCRIPTION:Join JH Travel for a day of traveling with friends to see the m
 ost up to date quilting options available where a quilter can shop by coll
 ection\, shop by style or shop by designer which is at Missouri Star Quilt
  Company in Hamilton\, MO.  The company is family owned and has purchased
  many of the closed stores in this small town and remodeled the empty buil
 dings to accommodate the many fabrics &amp\; choices they offer.\n\nUpon a
 rrival at the Missouri Star Quilt Company a greeter will welcome our group
 \, a welcome bag including a map\, MSQC pattern &amp\; goodies will be giv
 en to each traveler. Shop for a couple hours and then a boxed lunch will b
 e shared - then more time to shop to find just the "right fabric"! New sto
 res that have been added  to the Missouri Star Quilting since our last vi
 sit is:  Nancy's Notions\, Let's Make Art and One Big Happy Yarn Co.\n\nS
 adly\, we need to leave the Missouri Star Quilt Co to begin our trip back 
 to Newton.  On our way home we will have an evening meal at the Toot Toot
 's Restaurant in Bethany\, MO where a buffet with salads\, hot entrees and
  dessert bar awaits us.  We then board our Hawkeye Stages coach to contin
 ue our trip back to Newton with fond memories of our day in Hamilton! Hope
  to have you join us for a day of discovery at the Missouri Star Quilt Com
 pany!\n\n**We will be departing from Newton and stopping at Adventureland 
 Inn in Altoona to pickup additional quilters.\n\n**PLEASE NOTE: DUE TO A C
 HANGE IN POLICY OF MSQC PLEASE MAKE YOUR RESERVATIONS PROMPTLY ON THIS TRI
 P. WE CAN NOT GUARANTEE IF SPACING IS AVAILABLE FOR ADDITIONS AFTER THE DE
 ADLINE. \n\nDepart:  6:00 a.m.\n\nReturn:  9:15 p.m.\n\nCost Per Person:
   $164.00\n\nReservation and payment due by September 15\, 2021 
CATEGORIES:Day Trip
END:VEVENT
BEGIN:VTIMEZONE
TZID:America/Chicago
X-LIC-LOCATION:America/Chicago
BEGIN:DAYLIGHT
DTSTART:20210314T030000
TZOFFSETFROM:-0600
TZOFFSETTO:-0500
TZNAME:CDT
END:DAYLIGHT
END:VTIMEZONE
END:VCALENDAR