BEGIN:VCALENDAR
VERSION:2.0
PRODID:-//wp-events-plugin.com//7.2.3.1//EN
TZID:America/Chicago
X-WR-TIMEZONE:America/Chicago
BEGIN:VEVENT
UID:229@jhtraveltours.com
DTSTART;TZID=America/Chicago:20171029T130000
DTEND;TZID=America/Chicago:20171029T223000
DTSTAMP:20170714T014459Z
URL:https://jhtraveltours.com/events/ring-of-fire-2/
SUMMARY:Ring of Fire - #_LOCATIONNAME - 29 Oct 17 13:00
DESCRIPTION:Join JH Travel for this evening show that will have you remembe
 ring the Man in Black\, Johnny Cash at Circa 21 Dinner Playhouse in Octobe
 r!\n\nA set of gifted singers and instrumentalists sing through some of th
 e greatest songs of one of America's most brilliant singer/songwriters in 
 history! Though he is never impersonated\, his remarkable life story is to
 ld through his music\, climaxing in a concert that will both move and exhi
 larate!\n\nRING OF FIRE\, tells the story of Cash's life\, including his r
 edemption\, through songs as "Waiting On The Far Side Banks of Jordan"\, "
 Oh\, Come\, Angel Band" and "If I Were A Carpenter". Also enjoy songs "I'v
 e Been Everywhere"\, "Ring of Fire"\, "I Walk the Line"\, "Daddy Sings Bas
 s"\, "Jackson" and many more of your favorites! He is widely considered on
 e of the most influential musicians in the 20th century!\n\nYou will be hu
 mming along with your favorites! This will be a favorite show for those Jo
 hnny Cash song lovers!\n\nDepart: 1:00 p.m.\nReturn:  10:30 p.m.\n\nCost 
 Per Person:  $144.00
ATTACH;FMTTYPE=image/jpeg:https://jhtraveltours.com/wp-content/uploads/201
 7/07/RingOfFire.png
CATEGORIES:Day Trip
END:VEVENT
BEGIN:VTIMEZONE
TZID:America/Chicago
X-LIC-LOCATION:America/Chicago
BEGIN:DAYLIGHT
DTSTART:20170312T030000
TZOFFSETFROM:-0600
TZOFFSETTO:-0500
TZNAME:CDT
END:DAYLIGHT
END:VTIMEZONE
END:VCALENDAR