BEGIN:VCALENDAR
VERSION:2.0
PRODID:-//wp-events-plugin.com//7.2.3.1//EN
TZID:America/Chicago
X-WR-TIMEZONE:America/Chicago
BEGIN:VEVENT
UID:369@jhtraveltours.com
DTSTART;TZID=America/Chicago:20220612T111500
DTEND;TZID=America/Chicago:20220612T181500
DTSTAMP:20220314T162741Z
URL:https://jhtraveltours.com/events/riverdance-25th-anniversary-show/
SUMMARY:Riverdance -  25th Anniversary Show - #_LOCATIONNAME - 12 Jun 22 1
 1:15
DESCRIPTION:Riverdance\, as you've never seen or heard it before!\n\nA  po
 werful and stirring re-invention of this beloved favorite\, celebrated the
  world-over for its Grammy award-winning score and the excitement\, energy
  and dynamism of its Irish and International Dance.\n\nTwenty five years o
 n\, renowned composer Bill Whelan brings this mesmerizing soundtrack back 
 to life\, completely revitalized for the first time since those original o
 rchestral recordings. Producer Moya Doherty and Director John McColgan hav
 e produced an amazing new 25th Anniversary production with innovative and
  spectacular lighting\, projection\, staging and costume design\, and an a
 ll-new finale number which will blow audiences away. Immerse yourself in t
 he extraordinary power and grace of music and dance – beloved by fans of
  all ages.  Fall in love with the magic of Riverdance all over again.\n
 \nMatinee show will begin at 1:00 p.m. and following this awesome performa
 nce Red Lobster in West Des Moines will host our group for an evening meal
  with several choices of main entrees including seafood\, pasta or chicken
 \, side dishes\, cheesy biscuits and of course. . . dessert!\n\nWe already
  have several signups for this trip - so don't wait too long to make your 
 reservation!\n\nDepart:  11:15 a.m.\n\nReturn:  6:15 p.m.\n\nCost Per Pe
 rson:  $189.00\n\nReservation and payment due by April 1\, 2022 
CATEGORIES:Day Trip
END:VEVENT
BEGIN:VTIMEZONE
TZID:America/Chicago
X-LIC-LOCATION:America/Chicago
BEGIN:DAYLIGHT
DTSTART:20220313T030000
TZOFFSETFROM:-0600
TZOFFSETTO:-0500
TZNAME:CDT
END:DAYLIGHT
END:VTIMEZONE
END:VCALENDAR