BEGIN:VCALENDAR
VERSION:2.0
PRODID:-//wp-events-plugin.com//7.2.3.1//EN
TZID:America/Chicago
X-WR-TIMEZONE:America/Chicago
BEGIN:VEVENT
UID:326@jhtraveltours.com
DTSTART;TZID=America/Chicago:20200503T111500
DTEND;TZID=America/Chicago:20200503T181500
DTSTAMP:20200415T141931Z
URL:https://jhtraveltours.com/events/riverdance-new-25th-anniversary-show/
SUMMARY:Riverdance - New 25th Anniversary Show - New Date Soon - #_LOCATION
 NAME - 3 May 20 11:15
DESCRIPTION:New Date Soon\nRiverdance\, as you've never seen or heard it be
 fore!\n\nhttps://vimeo.com/323278413\n\nA powerful and stirring re-inventi
 on of this beloved favorite\, celebrated the world-over for its Grammy awa
 rd-winning score and the excitement\, energy and dynamism of its Irish and
  International Dance! Join JH Travel for this amazing new 25th Anniversary
  production with innovative and spectacular lighting\, projection\, stagin
 g and costume design\, and all new finale number which will blow audiences
  away!\n\n\n\nAfter this awesome performance Red Lobster in West Des Moine
 s will host our group for an evening meal with several choices of main ent
 rees including seafood\, pasta or chicken\, side dishes\, cheesy biscuits 
 and of course. . . dessert!\n\nWe already have several signups for this tr
 ip - so don't wait too long to make your reservation!\n\nDepart:  11:15 a
 .m.\n\nReturn:  6:15 p.m.\n\nCost Per Person:  $183.00\n\nReservation an
 d payment due by March 10\, 2020 
ATTACH;FMTTYPE=image/jpeg:https://jhtraveltours.com/wp-content/uploads/202
 0/01/Riverdance.png
CATEGORIES:Day Trip
END:VEVENT
BEGIN:VTIMEZONE
TZID:America/Chicago
X-LIC-LOCATION:America/Chicago
BEGIN:DAYLIGHT
DTSTART:20200308T030000
TZOFFSETFROM:-0600
TZOFFSETTO:-0500
TZNAME:CDT
END:DAYLIGHT
END:VTIMEZONE
END:VCALENDAR