BEGIN:VCALENDAR
VERSION:2.0
PRODID:-//wp-events-plugin.com//7.2.3.1//EN
TZID:America/Chicago
X-WR-TIMEZONE:America/Chicago
BEGIN:VEVENT
UID:169@jhtraveltours.com
DTSTART;TZID=America/Chicago:20160319T103000
DTEND;TZID=America/Chicago:20160319T173000
DTSTAMP:20150911T032528Z
URL:https://jhtraveltours.com/events/riverdance/
SUMMARY:Riverdance - #_LOCATIONNAME - 19 Mar 16 10:30
DESCRIPTION:&nbsp\;\n\nThe international Irish dance phenomenon is back by 
 popular demand in Riverdance - The 20th Anniversary World Tour. Drawing on
  Irish traditions\, the combined talents of the performers propel Irish da
 ncing and music into the present day\, capturing the imagination of audien
 ces across all ages and cultures in an innovative and exciting blend of da
 nce\, music and song. Of all the performances to emerge from Ireland - in 
 rock\, music\, theatre and film - nothing has carried the energy\, the sen
 suality and the spectacle of Riverdance.\n\nPrior to this matinee show lun
 ch will be served by Le Jardin with a lunch choice of:  Parmesan Crusted 
 Chicken - served with angel hair pasta\, olives\, lemon-basil marinara and
  roasted asparagus or Salmon with citrus sauce - served with potatoes and 
 asparagus.  Both entrees will be served with a mixed green salad with des
 sert offered which will be mocha pot de' creme - coffee infused chocolate 
 custard with whipped cream or lemon-ginger poundcake with apricot sauce wi
 th whipped cream or orange creme brulee with amaretto strawberries.\n\nHop
 e to have you join JH Travel for this show at the Des Moines Performing Ar
 ts! Be sure to check your calendar and make the reservations ASAP due to l
 imited seating!\n\nDepart:  10:30 a.m.\nReturn:  5:30 p.m.\n\nCost Per P
 erson:  $172.00\n\nReservation and payment due by January 27\, 2016
ATTACH;FMTTYPE=image/jpeg:https://jhtraveltours.com/wp-content/uploads/201
 5/09/Riverdance2.edit_.jpg
CATEGORIES:Day Trip
END:VEVENT
BEGIN:VTIMEZONE
TZID:America/Chicago
X-LIC-LOCATION:America/Chicago
BEGIN:DAYLIGHT
DTSTART:20160313T030000
TZOFFSETFROM:-0600
TZOFFSETTO:-0500
TZNAME:CDT
END:DAYLIGHT
END:VTIMEZONE
END:VCALENDAR