BEGIN:VCALENDAR
VERSION:2.0
PRODID:-//wp-events-plugin.com//7.2.3.1//EN
TZID:America/Chicago
X-WR-TIMEZONE:America/Chicago
BEGIN:VEVENT
UID:259@jhtraveltours.com
DTSTART;TZID=America/Chicago;VALUE=DATE:20190308
DTEND;TZID=America/Chicago;VALUE=DATE:20190318
DTSTAMP:20180227T061354Z
URL:https://jhtraveltours.com/events/san-antonio-padre-island-gulf-mexico/
SUMMARY:San Antonio\, Padre Island & the Gulf of Mexico - #_LOCATIONNAME - 
 8 Mar 19 00:00
DESCRIPTION:Day 1: Depart your group’s location in a spacious\, video\, a
 nd restroom equipped Motorcoach\, enjoying the great scenery along the way
 . Then settle into a comfortable en route hotel for a good night’s rest.
 \n\nDay 2: After a Continental Breakfast\, head to the Oklahoma City Natio
 nal Memorial. At this stirring memorial\, you’ll have the opportunity to
  pay respects to those who were lost in the 1995 Oklahoma City bombings. L
 ater in the day\, enjoy Dinner and head to your en route hotel.\n\nDay 3: 
 Today\, you’ll arrive in beautiful San Antonio\, TX – your San Antonio
  area hotel for a five-night stay.\n\nDay 4: After enjoying a Continental 
 Breakfast\, you will take a Guided tour of San Antonio. The tour includes 
 visits to San Fernando Cathedral\, the King William Historical District\, 
 and El Mercado\, an area patterned after an authentic Mexican market you w
 ill enjoy Dinner and go on San Antonio’s famous Riverwalk Cruise!\n\nDay
  5: After enjoying a Continental Breakfast\, you’ll head to the Gulf of 
 Mexico! Your journey will begin with a stop at the stunning Texas state Aq
 uarium in Corpus Christi\, Texas. Enjoy this huge aquarium’s IMAX theatr
 e presented in 4K high-definition as well as an amazing display of sea lif
 e. Then you’ll head to the Padre Island National Seashore Park. After wa
 tching an eight-minute video at the visitor’s center\, you’ll have a c
 hance to stroll the beach\, sit on a bench with a view of the Gulf of Mexi
 co\, or explore their boardwalk nature trail. After having Dinner at a loc
 al restaurant\, you’ll head back to your hotel for a good night’s rest
 .\n\nDay 6: Enjoy a Continental Breakfast before departing for Fredericksb
 urg\, “Jewel of the Texas Hill Country”. Start with a visit to Lyndon 
 B. Johnson National Historical Park where you will go on a tour of the LBJ
  Ranch\, and see the “Texas White House.” Then\, depart for the Nation
 al Museum of the Pacific War\, including the George Bush Gallery. Here\, v
 isitors become quickly engaged in the personal stories of Americans from a
 ll branches of the military involved in the Pacific theatre of World War I
 I. This evening\, enjoy a local Dinner with entertainment.\n\nDay 7: Start
  the day with a continental Breakfast. Afterwards\, depart for a visit to 
 the San Antonio Missions. Experience the “Queen of the Missions” – M
 ission san Jose\, established in 1720. Next\, you will visit the Institute
  of Texan Cultures. The Institute is devoted to the 26 different cultures 
 that settled Texas. Later\, go to the IMAX Theatre at San Antonio River ce
 nter to see “ALAMO … The Price of Freedom”. Then\, stand where histo
 ry took place when you visit the buildings and grounds of the ALAMO “The
  Shrine of Liberty”. This evening\, you will relax and enjoy Dinner.\n\n
 Day 8: Enjoy a Continental Breakfast at your hotel before leaving for the 
 Bob Bullock Texas State History Museum in Austin\, TX. Its interactive exh
 ibits and artifacts bring the myth\, legend\, and fact of the Lone Star St
 ate together under one roof. Later that day\, after a relaxing Dinner\, yo
 u'll check into your en Route hotel.\n\nDay 9: Today you’ll go to the Ok
 lahoma History Center in Oklahoma City\, OK. Tonight\, relax in your en ro
 ute hotel.\n\nDay 10: Today\, after enjoying a Continental breakfast\, you
  will depart for home… a perfect time to chat with your friends about al
 l the fun things you’ve done\, the great sights you’ve see\, and where
  your next group trip will take you!\n\n$941* per person\, double occupanc
 y\n\n10 Days 9 Nights\n\n$75 Due upon signing. *price per person\, based o
 n double occupancy. Add $240 for single occupancy.\n\nFinal Payment due: 1
 /1/2019\n\n[gview file="https://jhtraveltours.com/wp-content/uploads/2018/
 02/San-Antonio-Padre-Island-the-Gulf-of-Mexico.pdf"]\n\n[gview file="https
 ://jhtraveltours.com/wp-content/uploads/2018/02/TravelInsuranceFlyer.pdf"]
ATTACH;FMTTYPE=image/jpeg:https://jhtraveltours.com/wp-content/uploads/201
 8/02/SanAntonio.png
CATEGORIES:Extended Trip
END:VEVENT
BEGIN:VTIMEZONE
TZID:America/Chicago
X-LIC-LOCATION:America/Chicago
BEGIN:STANDARD
DTSTART:20181104T010000
TZOFFSETFROM:-0500
TZOFFSETTO:-0600
TZNAME:CST
END:STANDARD
BEGIN:DAYLIGHT
DTSTART:20190310T030000
TZOFFSETFROM:-0600
TZOFFSETTO:-0500
TZNAME:CDT
END:DAYLIGHT
END:VTIMEZONE
END:VCALENDAR