BEGIN:VCALENDAR
VERSION:2.0
PRODID:-//wp-events-plugin.com//7.2.3.1//EN
TZID:America/Chicago
X-WR-TIMEZONE:America/Chicago
BEGIN:VEVENT
UID:339@jhtraveltours.com
DTSTART;TZID=America/Chicago:20210901T091500
DTEND;TZID=America/Chicago:20210901T184500
DTSTAMP:20210309T023123Z
URL:https://jhtraveltours.com/events/saturday-night-fever-2/
SUMMARY:Saturday Night Fever - #_LOCATIONNAME - 1 Sep 21 09:15
DESCRIPTION:Put your Boogie Shoes On! Get ready to tap your toe along with 
 the songs during the matinee show at Circa 21 Dinner Playhouse!\n\nTony Ma
 nero doesn’t have much going for him during the week days. He still live
 s at home and works as a paint store clerk in his Brooklyn neighborhood. B
 ut he lives for the weekends when he and his friends go to the local disco
  and dance the night away. When a big dance competition is announced\, he 
 wrangles the beautiful and talented Stephanie to be his partner. As the tw
 o train for the big night\, they start to fall for each other as well.\n\n
 Based on the 1977 movie phenomenon that launched the disco era and made Jo
 hn Travolta a household name\, Saturday Night Fever features songs from th
 e Bee Gees and is one of the most successful movie sound tracks of all tim
 e. The stage musical includes almost all of the songs from the original mo
 vie sound track\, bringing us back to the time when disco was king. If you
  get “Boogie Fever” and feel like “You Should Be Dancin’\,” this
  is the show for you!\n\nJoin JH Travel for a fun afternoon away to enjoy 
 this musical dinner show!\n\n&nbsp\;\n\nDepart:  9:15 a.m.\nReturn:  6:4
 5 p.m.\n\nCost Per Person:  $145.00\n\nReservation and payment due by Jul
 y 23\, 2021 \n\n&nbsp\;
ATTACH;FMTTYPE=image/jpeg:https://jhtraveltours.com/wp-content/uploads/202
 1/03/Saturday-Night-Fever.jpg
CATEGORIES:Day Trip
END:VEVENT
BEGIN:VTIMEZONE
TZID:America/Chicago
X-LIC-LOCATION:America/Chicago
BEGIN:DAYLIGHT
DTSTART:20210314T030000
TZOFFSETFROM:-0600
TZOFFSETTO:-0500
TZNAME:CDT
END:DAYLIGHT
END:VTIMEZONE
END:VCALENDAR