BEGIN:VCALENDAR
VERSION:2.0
PRODID:-//wp-events-plugin.com//7.2.3.1//EN
TZID:America/Chicago
X-WR-TIMEZONE:America/Chicago
BEGIN:VEVENT
UID:310@jhtraveltours.com
DTSTART;TZID=America/Chicago:20200429T091500
DTEND;TZID=America/Chicago:20200429T184500
DTSTAMP:20200415T141918Z
URL:https://jhtraveltours.com/events/saturday-night-fever/
SUMMARY:Saturday Night Fever - Postponed - #_LOCATIONNAME - 29 Apr 20 09:15
DESCRIPTION:\nPostponed\nCan’t Stop The Disco Inferno!\n\n&nbsp\;\n\nJoi
 n JH Travel for this high energy show at Circa 21 Dinner Playhouse! Rememb
 er the ever popular disco shiny ball\, dance competitions and so much from
  the 70's? Join us to relive those fun times! Enjoy music &amp\; dancing t
 hen this is show for you!\n\nTony Manero lives for the weekends when he an
 d his friends go to the local disco and dance the night away. When a big d
 ance competition is announced\, he wrangles the beautiful and talented Ste
 phanie to be his partner. As the two train for the big night\, they start 
 to fall for each other as well.  Based on the 1977 movie phenomenon that 
 launched the disco era and made John Travolta a household name\, Saturday 
 Night Fever features hit songs from the Bee Gees — such as “Stayin’ 
 Alive\,” “Disco Inferno\,” and “How Deep Is Your Love” — and i
 s one of the most successful movie sound tracks of all time\, winning a 19
 79 Grammy for Album of the Year and staying on U.S. album chart until Marc
 h 1980. The stage musical includes almost all of the songs from the origin
 al movie sound track\, and the high-octane energy will bring you back to t
 he time when disco was king!\n\nHope to have you join us for this dancing 
 to the 70's fun!\n\nDepart:  9:15 a.m.\n\nReturn:  6:45 p.m.\n\nCost Per
  Person: $143.00\n\nReservation and payment due by March 23\, 2020 
ATTACH;FMTTYPE=image/jpeg:https://jhtraveltours.com/wp-content/uploads/201
 9/07/Trip-Header-2019-4.png
CATEGORIES:Day Trip
END:VEVENT
BEGIN:VTIMEZONE
TZID:America/Chicago
X-LIC-LOCATION:America/Chicago
BEGIN:DAYLIGHT
DTSTART:20200308T030000
TZOFFSETFROM:-0600
TZOFFSETTO:-0500
TZNAME:CDT
END:DAYLIGHT
END:VTIMEZONE
END:VCALENDAR