BEGIN:VCALENDAR
VERSION:2.0
PRODID:-//wp-events-plugin.com//7.2.3.1//EN
TZID:America/Chicago
X-WR-TIMEZONE:America/Chicago
BEGIN:VEVENT
UID:194@jhtraveltours.com
DTSTART;TZID=America/Chicago;VALUE=DATE:20170325
DTEND;TZID=America/Chicago;VALUE=DATE:20170403
DTSTAMP:20160712T022436Z
URL:https://jhtraveltours.com/events/savannah-jekyll-island-charleston-sc/
SUMMARY:Savannah\, Jekyll Island\, & Charleston\, SC - #_LOCATIONNAME - 25 
 Mar 17 08:00
DESCRIPTION:Departure from Newton at 8am Saturday\, March 25th.\n\nYour tri
 p includes:\n\n 	Motorcoach transportation\n 	8 nights lodging including 4
  consecutive nights in the Savannah area\n 	14 meals: 8 breakfasts and 6 d
 inners\n 	Tour of charming Savannah\n 	Visit to a Historic and Famous Home
 \n 	Tour of amazing Jekyll &amp\; St. Simon’s Island - see how America's
  early millionaires lived and played!\n 	Enjoy Dinner and Entertainment\n 
 	Guided Tour of Charleston\, SC\n 	and much more\n\n[gview file="https://j
 htraveltours.com//wp-content/uploads/2016/07/1257915-9G01061201_MOD_3.pdf"
 ]\n\n[gview file="https://jhtraveltours.com//wp-content/uploads/2016/07/Tr
 avel-Confident-Protection-Plan.pdf"]
ATTACH;FMTTYPE=image/jpeg:https://jhtraveltours.com/wp-content/uploads/201
 6/07/Savannah-Header.png
CATEGORIES:Extended Trip
END:VEVENT
BEGIN:VTIMEZONE
TZID:America/Chicago
X-LIC-LOCATION:America/Chicago
BEGIN:DAYLIGHT
DTSTART:20170312T030000
TZOFFSETFROM:-0600
TZOFFSETTO:-0500
TZNAME:CDT
END:DAYLIGHT
END:VTIMEZONE
END:VCALENDAR