BEGIN:VCALENDAR
VERSION:2.0
PRODID:-//wp-events-plugin.com//7.2.3.1//EN
TZID:America/Chicago
X-WR-TIMEZONE:America/Chicago
BEGIN:VEVENT
UID:243@jhtraveltours.com
DTSTART;TZID=America/Chicago:20180614T121500
DTEND;TZID=America/Chicago:20180614T190000
DTSTAMP:20170927T012643Z
URL:https://jhtraveltours.com/events/savannah-sipping-society/
SUMMARY:Savannah Sipping Society - #_LOCATIONNAME - 14 Jun 18 12:15
DESCRIPTION:Get ready for an afternoon of comedy at this matinee production
  at Old Creamery Theatre! Oh\, and don't forget your appetite as our eveni
 ng meal will be hosted by Stacy &amp\; gang at the English Valley B &amp\;
  B after the show!\n\nAfter a hot yoga class brings four women “of a cer
 tain age” together\, they decide their sassy humor and Southern charms a
 re better suited for solving life’s problems over cocktails. Come raise 
 a glass to remembering you are never too old to try new things!\n\nJoin us
  for the second main-stage show at Old Creamery Theatre located in Amana\,
  IA!\n\nDepart:  12:15 p.m.\n\nReturn: 7:00 p.m.\n\nCost Per Person: $109
 .00\n\nReservation and payment due by May 18\, 2018 
ATTACH;FMTTYPE=image/jpeg:https://jhtraveltours.com/wp-content/uploads/201
 7/09/SavannahSippingSociety_Slide.jpg
CATEGORIES:Day Trip
END:VEVENT
BEGIN:VTIMEZONE
TZID:America/Chicago
X-LIC-LOCATION:America/Chicago
BEGIN:DAYLIGHT
DTSTART:20180311T030000
TZOFFSETFROM:-0600
TZOFFSETTO:-0500
TZNAME:CDT
END:DAYLIGHT
END:VTIMEZONE
END:VCALENDAR