BEGIN:VCALENDAR
VERSION:2.0
PRODID:-//wp-events-plugin.com//7.2.3.1//EN
TZID:America/Chicago
X-WR-TIMEZONE:America/Chicago
BEGIN:VEVENT
UID:201@jhtraveltours.com
DTSTART;TZID=America/Chicago:20170830T091500
DTEND;TZID=America/Chicago:20170830T174500
DTSTAMP:20160822T013029Z
URL:https://jhtraveltours.com/events/seven-brides-seven-brothers/
SUMMARY:Seven Brides for Seven Brothers - #_LOCATIONNAME - 30 Aug 17 09:15
DESCRIPTION:Join JH Travel for this matinee show that will have you laughin
 g\, tapping your toe to the music and waiting for the next adventure in Or
 egon!\n\nBursting with the rambunctious energy of the original MGM film\, 
 this production is all boisterous fun and romance that harkens back to the
  glory days of the movie musical. A truly rollicking adventure that teache
 s that it takes a bride to turn seven unshaven unkempt brothers into manly
  gentlemen and to turn desire into romance. Set in Oregon in 1850\, "Seven
  Brides for Seven Brothers" tells the story of Millie\, a young bride livi
 ng in the 1850's Oregon wilderness. Her plan to civilize and marry off her
  six rowdy brothers-in-law to ensure the success of her own marriage backf
 ires when the brothers\, in their enthusiasm\, kidnap six women from a nei
 ghboring town to be their brides!\n\nHope to have you join us for this "Ro
 llicking Adventure" at the Circa 21 Dinner Playhouse in Rock Island\, IL i
 n August! A fast food stop will be made on our way back to Newton after th
 e matinee show.\n\nDepart: 9:15 a.m.\nReturn: 6:45 p.m.\n\nCost Per Person
 : $119.00\n\nReservation and payment due by July 24\, 2017
ATTACH;FMTTYPE=image/jpeg:https://jhtraveltours.com/wp-content/uploads/201
 6/08/Seven-Bridges.png
CATEGORIES:Day Trip
END:VEVENT
BEGIN:VTIMEZONE
TZID:America/Chicago
X-LIC-LOCATION:America/Chicago
BEGIN:DAYLIGHT
DTSTART:20170312T030000
TZOFFSETFROM:-0600
TZOFFSETTO:-0500
TZNAME:CDT
END:DAYLIGHT
END:VTIMEZONE
END:VCALENDAR