BEGIN:VCALENDAR
VERSION:2.0
PRODID:-//wp-events-plugin.com//7.2.3.1//EN
TZID:America/Chicago
X-WR-TIMEZONE:America/Chicago
BEGIN:VEVENT
UID:168@jhtraveltours.com
DTSTART;TZID=America/Chicago:20160804T121500
DTEND;TZID=America/Chicago:20160804T184500
DTSTAMP:20150911T031547Z
URL:https://jhtraveltours.com/events/shear-madness-2016/
SUMMARY:Shear Madness 2016 - #_LOCATIONNAME - 4 Aug 16 12:15
DESCRIPTION:August 4\, 2016 (Thursday) \n\nYou will absolutely love this sh
 ow! The Old Creamery Theatre presented this production in August\, 2015 an
 d our group thought it was hilarious and the different scenarios played we
 re awesome!\n\nBack by popular demand! This unique comic-whodunit takes pl
 ace today in the "Shear Madness" hairstyling salon. During the course of t
 he action\, a murder is committed and the audience gets to spot the clues\
 , question the suspects\, and solve the funniest mystery seen on stage.  
 The outcome is never the same\, which is why many audience members return 
 again and again to the scene of the mayhem.  Voted "Best Comedy of the Ye
 ar" seven times by the Boston Globe.\n\nAfter the comedy show our evening 
 meal will be served family style at the Ronnenburg Restaurant with all our
  favorite Amana fixins! Don't miss the oven baked steak\, ham\, fried pota
 toes and of course . . . dessert!\n\nDon't miss this comedy production and
  as always\, enjoy the premium seating close by the stage so you won't mis
 s a clue to this mystery!\n\nDepart:  12:15 p.m.\nReturn:  6:45 p.m.\n\n
 Cost Per Person:  $103.00\n\nReservation and payment due by July 15\, 201
 6 
ATTACH;FMTTYPE=image/jpeg:https://jhtraveltours.com/wp-content/uploads/201
 4/10/ShearMadness_300px.jpg
CATEGORIES:Day Trip
END:VEVENT
BEGIN:VTIMEZONE
TZID:America/Chicago
X-LIC-LOCATION:America/Chicago
BEGIN:DAYLIGHT
DTSTART:20160313T030000
TZOFFSETFROM:-0600
TZOFFSETTO:-0500
TZNAME:CDT
END:DAYLIGHT
END:VTIMEZONE
END:VCALENDAR