BEGIN:VCALENDAR
VERSION:2.0
PRODID:-//wp-events-plugin.com//7.2.3.1//EN
TZID:America/Chicago
X-WR-TIMEZONE:America/Chicago
BEGIN:VEVENT
UID:321@jhtraveltours.com
DTSTART;TZID=America/Chicago;VALUE=DATE:20201202
DTEND;TZID=America/Chicago;VALUE=DATE:20201207
DTSTAMP:20191011T140030Z
URL:https://jhtraveltours.com/events/sidewalks-of-new-york-at-christmas/
SUMMARY:Sidewalks of New York at Christmas - #_LOCATIONNAME - 2 Dec 20 00:0
 0
DESCRIPTION:\n\nNo one celebrates the holiday season like New York City. Wh
 ether it’s the colorful balloons floating through the City during the Th
 anksgiving Day Parade\, the bright lights of the famous Rockefeller Center
  Christmas Tree or the incomparable excitement of a million revelers comin
 g together to watch the ball drop during the world’s biggest New Year’
 s Eve celebration in Times Square\, all eyes are on\nNYC during the most w
 onderful time of the year!\n\nClick Here for Travel Brochure!\n\n[pdf-embe
 dder url="https://jhtraveltours.com/wp-content/uploads/2019/10/Sidewalks-o
 f-New-York-JH-Travel-2019.pdf" title="Sidewalks of New York JH Travel 2019
 "]\n\nDAY # 1 WEDNESDAY\, DECEMBER 2\, 2020\n\nWelcome aboard as we transf
 er to the Des Moines International Airport for our flight to “The Big Ap
 ple”\, New York City. Our\naccommodations in New York City will be at th
 e deluxe Row New York City Hotel\, located just steps away from Times Squa
 re and\nBroadway shows. This evening\, join your tour director for a walk 
 along the Broadway Theaters and their dazzling lights! We will\nhave many 
 suggestions for ways to explore the “Side Walks of New York” including
  Broadway show tickets. Dinner this evening is\non your own.\nOVN Row New 
 York City Hotel\, New York City\n\n DAY # 2 THURSDAY\, DECEMBER 3\, 2020\n
 \nAn exciting day begins with a fun-filled breakfast at the famous Ellen
 ’s Stardust Diner\, a 50’s restaurant featuring a singing\nwait staff.
  Next we travel with our local step on guide through the popular communiti
 es of Greenwich Village\, Little Italy and\nChinatown\, Empire State Build
 ing and other time-honored landmarks decorated for the season. Reflect at 
 the 9/11 Memorial and\nvisit the Museum\, a poignant tribute to the lives 
 lost. From here\, (for those interested)\, it is just a short walk to St. 
 Paul’s Cathedral\nwhere George Washington once worshiped and Trinity Chu
 rch. We return to our hotel to freshen up before dinner-on-the-town\nfollo
 wed by the sweetest holiday treat at Radio City Music Hall and the incredi
 ble Christmas Spectacular featuring the highkicking Rockettes!\n(BD) OVN R
 ow New York City Hotel\, New York City\n\n DAY # 3 FRIDAY\, DECEMBER 4\, 2
 020\n\nEnjoy an incredible buffet breakfast this morning at the nearby Har
 d Rock Café. After breakfast we visit NBC Studios for a behind\nthe scene
 s tour of this icon of the broadcasting industry. Then enjoy the breathtak
 ing panoramic view of New York City from the\nTop of the Rock observation 
 deck. Wonder through the Rockefeller Center brilliant lighted displays and
  the towering Christmas\ntree and enjoy lunch (on own) in the Rockefeller 
 Center’s food court pavilion. This afternoon\, enjoy a private Pedi-cab 
 (or Horse\ndrawn carriage ride---TBD) through Central Park’s holiday lig
 hts\, sculptures and memorial gardens. Located on 778 acres in the\nmiddle
  of upper Manhattan\, it is the most visited urban park in the United Stat
 es. Dinner this evening will be at the popular\nCarmines Restaurant in the
  heart of the theater district. Tonight we have reserved seats for the awa
 rd winning New York City\nBallet &amp\; Nut Cracker at the Lincoln Center 
 for the Performing Arts.\n(BD) OVN Row New York City Hotel\, New York City
 \n\n DAY # 4 SATURDAY\, DECEMBER 5\, 2020\n\nEnjoy the day to explore New 
 York City on your own. One of the popular activities at Christmastime for 
 New Yorkers is visiting the\nColumbus Circle or Union Square Holiday Marke
 ts that also offer a “Taste of Gourmet New York” at the ethnic food bo
 oths. This\nafternoon take in a matinee Broadway show or plan for an eveni
 ng one. Taxis\, bus routes and subways are plentiful in New York\nCity to 
 all parts of Manhattan and connecting Boroughs. Explore Greenwich Village\
 , night clubs and speak easy’s or dine at one of\nNew York City’s vast
  array of gourmet restaurants. (Assistance with acquiring theater tickets 
 will be available).\n(CB) OVN Row New York City Hotel\, New York City\n\n 
 DAY # 5 SUNDAY\, DECEMBER 6\, 2020\n\nWe have a late checkout of our hotel
  this morning and a visit to Chelsea Market. The market is located in the 
 former National\nBiscuit Companies factory where Oreo Cookies were manufac
 tured. The complex covers a full square block. In addition to the\nretail 
 concourse of anchor stores\, food courts and restaurants\, there are broad
 casting companies including: Oxygen Network\, Food\nNetwork\, MLB.com and 
 EMI Music just to name a few. After lunch on our own at the market\, we th
 en transfer to the airport and\nour flight home leaving with great memorie
 s of our “Sidewalks of New York at Christmas” Adventure.\n(CB)\n\nYour
  Sidewalks of New York Christmas Tour Includes*\;\n• Round Trip Transfer
 s to/from Newton\, IA to/from Des Moines Airport\n• Round Trip Coach Cla
 ss Airfare Des Moines/New York City/Des Moines\n• Airport Transfers in N
 ew York City\n• Motorcoach Transportation of Itinerary in New York City\
 n• Four Nights’ Accommodations at The Row New York\n• Evening Walkin
 g Tour (Day #1) With Tri-State Travel Tour Director\n• Guided Tour of Ne
 w York City With Local Step On Guide\n• Four Breakfasts\, Two Dinners\n
 • 911 Memorial &amp\; Museum\n• Central Park Pedi-Cab Tour or Carriage
  Ride (subject to weather conditions)\n• Rockefeller Center/NBC Studio T
 our\n• “Top of the Rock” Observation Deck\n• Radio City Christmas 
 Spectacular and the Rockettes\n• NYC Ballet &amp\; The Nutcracker\n• C
 helsea Market\n• Luggage Handling for One Suit Case (Not to Exceed 50#) 
 Hotel &amp\;\nMotorcoach\n• Tri State Travel Tour Director\n• Taxes &a
 mp\; Gratuities on Included Accommodations\, Attractions\, Meals\, NYC Dri
 vers\, Hotel Porters\, Hawkeye Stages Driver Gratuity and Tri-State Travel
  Tour Director\n\n Not Included:\nLuggage Fees Assessed By Airlines\nTrave
 l Protection Plan\nItems of a Personal Nature\n\nYour Tour Price:\n$2\,999
 .00- Quad\n$3\,169.00- Triple\n$3\,499.00 - Double\n$4\,469.00 - Single\n\
 nTravel Protection Plan is available and strongly recommended. Premium is 
 non-refundable unless the entire tour is cancelled. Any surcharges and/or 
 tax increases received from suppliers for this package (Airlines\, Cruise 
 Companies\, Hotels\, etc.) may result in an increase in the per person pri
 ce of your tour package. For those individuals who have purchased the Trav
 el Protection Plan\, this may also result in an increase in your Travel Pr
 otection Plan premium.\n\n\nPayment/Cancellation &amp\; Refund Policy:\n\n
 *$500.00 per person deposit due with reservation\n*Balance of payment due 
 on or before September 15\, 2020\n*Cancellations received on or before Sep
 tember 15\, 2020 will receive a full refund\n*Cancellations received after
  September 15\, 2020 and prior to October 1\, 2020 will be assessed 25% of
  the per person tour price\n*Cancellations received after October 1\, 2020
  and prior to October 15\, 2020 will be assessed 50% of the per person tou
 r price\n*Cancellations received after October 15\, 2020 will be assessed 
 the full price of the tour\n\nNote names and spelling thereof must match e
 xactly as it appears on passports. Incorrect information will be subject t
 o deviation fees and penalties.\nCredit card payments will be assessed a 4
 % processing fee. \n\nFor Additional Information or to Make a Reservation 
 Contact:\nJanie Haunsperger\nJH Travel\nP O Box 1023\nNewton\, IA 50208\n6
 41-792-1980\njanie@jhtraveltours.com\n\n\n*Tri-State Travel reserves the r
 ight to change any arrangements listed in this itinerary. Should condition
 s necessitate changes: substitution of equal value or cancellations of the
  arrangements may occur.\n*Tri-State Travel reserves the right to add any 
 fuel surcharges that we receive from all of our vendors i.e.: airlines\, c
 ruise lines\, motorcoach companies\, etc. Additional costs may be added an
 y time prior to travel.\n\n\nResponsibility:\nTri-State Travel and JH Trav
 el LLC in offering this tour\, do so only as agents as outlined in this br
 ochure. Therefore\, JH Travel LLC and TriState Travel shall not become lia
 ble or responsible for any loss\, injury or damage to person\, property or
  otherwise in connection with any accommodations\, transportation or other
  services or resulting directly or indirectly from acts of God\, dangers i
 ncident to the waters\, fire\, breakdown in machinery or equipment\, acts 
 of governments or other\ncivil disturbances\, strikes\, riots\, thefts\, p
 ilferage\, defaults\, delays\, or cancellations of or changes in itinerary
 \, accommodations or schedules. The right is reserved to decline\, to acce
 pt or retain any person should a person’s health\, mental or physical co
 ndition or general deportment impede the operation of the tour or the righ
 ts or welfare or enjoyment of the other passengers and a refund of the unu
 sed land tour services is the limit of the agent’s liability should such
  a person be required to terminate the tour. The right is reserved to with
 draw the tour at any time and liability is limited to refund of all monies
  received. No refunds will be granted for unused portions of this tour unl
 ess arranged with the operator’s approval in writing in advance. Applica
 tion for membership and / or posting deposit for this tour shall constitut
 e the participant’s consent to the above terms and conditions.
ATTACH;FMTTYPE=image/jpeg:https://jhtraveltours.com/wp-content/uploads/201
 9/10/NewYorkChristmas.png
CATEGORIES:Extended Trip
END:VEVENT
BEGIN:VTIMEZONE
TZID:America/Chicago
X-LIC-LOCATION:America/Chicago
BEGIN:STANDARD
DTSTART:20201101T010000
TZOFFSETFROM:-0500
TZOFFSETTO:-0600
TZNAME:CST
END:STANDARD
END:VTIMEZONE
END:VCALENDAR