BEGIN:VCALENDAR
VERSION:2.0
PRODID:-//wp-events-plugin.com//7.2.3.1//EN
TZID:America/Chicago
X-WR-TIMEZONE:America/Chicago
BEGIN:VEVENT
UID:273@jhtraveltours.com
DTSTART;TZID=America/Chicago:20190925T091500
DTEND;TZID=America/Chicago:20190925T184500
DTSTAMP:20180803T223113Z
URL:https://jhtraveltours.com/events/singin-in-the-rain/
SUMMARY:Singin' In the Rain - #_LOCATIONNAME - 25 Sep 19 09:15
DESCRIPTION:September 25\, 2019 (Wednesday)\n\n\n\nJoin JH Travel for The G
 reatest Movie Musical Of All Time! This timeless production will be seen a
 t Circa 21 Dinner Playhouse at a matinee show in Rock Island\, IL!\n\nTap 
 your toes and sing along in this splashy adaptation of the celebrated and 
 beloved film.\n\nThe "Greatest Movie Musical of All Time" is faithfully an
 d lovingly adapted by Broadway legends\, Betty Comden and Adolph Green\, f
 rom their original award-winning screenplay in Singin' in the Rain. Each 
 unforgettable scene\, song and dance is accounted for\, including the sho
 w-stopping title number\, complete with an onstage rainstorm! Hilarious si
 tuations\, snappy dialogue and a hit-parade score of Hollywood standards 
 make Singin' in the Rain the perfect entertainment for any fan of the go
 lden age of movie musicals.\n\nSingin' in the Rain has all the makings o
 f a Tinseltown tabloid headline — the starlet\, the leading man and a lo
 ve affair that could change lives and make or break careers! In silent mov
 ies\, Don Lockwood and Lina Lamont are a hot item but\, behind the scenes
 \, things aren't always as they appear on the big screen! Meanwhile\, Lina
 's squeaky voice might be the end of her career in "talking pictures" with
 out the help of a talented young actress to do the talking and singing for
  her.\n\nFilled with every memorable moment from the film and a downpour o
 f unforgettable songs\, Singing in the Rain\, can't be missed!  So make y
 our reservation soon!\n\nDepart:  9:15 a.m.\nReturn:  6:45 p.m.\n\nCost 
 Per Person: $141.00\n\nReservation and payment due by September 4\, 2019
ATTACH;FMTTYPE=image/jpeg:https://jhtraveltours.com/wp-content/uploads/201
 8/08/Sing-Header.png
CATEGORIES:Day Trip
END:VEVENT
BEGIN:VTIMEZONE
TZID:America/Chicago
X-LIC-LOCATION:America/Chicago
BEGIN:DAYLIGHT
DTSTART:20190310T030000
TZOFFSETFROM:-0600
TZOFFSETTO:-0500
TZNAME:CDT
END:DAYLIGHT
END:VTIMEZONE
END:VCALENDAR