BEGIN:VCALENDAR
VERSION:2.0
PRODID:-//wp-events-plugin.com//7.2.3.1//EN
TZID:America/Chicago
X-WR-TIMEZONE:America/Chicago
BEGIN:VEVENT
UID:186@jhtraveltours.com
DTSTART;TZID=America/Chicago:20160601T091500
DTEND;TZID=America/Chicago:20160601T184500
DTSTAMP:20160430T173158Z
URL:https://jhtraveltours.com/events/sister-act/
SUMMARY:Sister Act - #_LOCATIONNAME - 1 Jun 16 09:15
DESCRIPTION:Deadline Extended - May 13th 2016\nJoin JH Travel for our very 
 first adventure to the Circa 21 Dinner Playhouse in Rock Island\, IL for a
  musical matinee comedy entitled "Sister Act".  Upon arrival our group wi
 ll be seated followed by lunch which will be served by the Bootleggers! Si
 t back and relax to enjoy the show! Dessert will be served at intermission
 .\n\nThis Broadway musical comedy is based on the hit 1992 film featuring 
 Whoopi Goldberg and has audiences jumping to their feet! Filled with power
 ful music\, outrageous dancing and a truly moving story about a woman in h
 iding in a convent who helps her fellow sisters find their voices as she d
 iscovers her own.\n\nWhen disco diva Deloris Van Cartier witnesses a murde
 r\, she is put in protective custody in one place the cops are sure she wo
 n't be found\; a convent! Disguised as a nun\, she finds herself at odds w
 ith both the rigid lifestyle and uptight Mother Superior.  Using her uniq
 ue disco moves and singing talent to inspire the choir\, Deloris breathes 
 new life into the church and community but in doing so\, blows her cover. 
  Soon\, the gang is giving chase only to find them up against Deloris and
  the power of her newly found sisterhood.\n\nSign up soon\, as you don't w
 ant to miss this fun production!\n\nDepart:  9:15 a.m.\nReturn:  6:45 p.
 m.\n\nCost Per Person: $117.00\nReservation and payment due by May 13\, 20
 16
ATTACH;FMTTYPE=image/jpeg:https://jhtraveltours.com/wp-content/uploads/201
 6/04/Sister-Act.png
CATEGORIES:Day Trip
END:VEVENT
BEGIN:VTIMEZONE
TZID:America/Chicago
X-LIC-LOCATION:America/Chicago
BEGIN:DAYLIGHT
DTSTART:20160313T030000
TZOFFSETFROM:-0600
TZOFFSETTO:-0500
TZNAME:CDT
END:DAYLIGHT
END:VTIMEZONE
END:VCALENDAR