BEGIN:VCALENDAR
VERSION:2.0
PRODID:-//wp-events-plugin.com//7.2.3.1//EN
TZID:America/Chicago
X-WR-TIMEZONE:America/Chicago
BEGIN:VEVENT
UID:372@jhtraveltours.com
DTSTART;TZID=America/Chicago:20220811T151500
DTEND;TZID=America/Chicago:20220811T234500
DTSTAMP:20220314T165743Z
URL:https://jhtraveltours.com/events/solitary-man-a-tribute-to-the-songs-o
 f-neil-diamond/
SUMMARY:Solitary Man - A Tribute to the Songs of Neil Diamond - #_LOCATIONN
 AME - 11 Aug 22 15:15
DESCRIPTION:August 11\, 2022 (Thursday Evening Show) \n\nJoin JH Travel for
  an evening of great food &amp\; the wonderful music of Neil Diamond!\n\nC
 irca 21 Dinner Playhouse has added an evening with Brad Hauskins leading a
  talented cast of musicians and vocalists in this tribute to rock 'n' roll
  hall of famer\, Neil Diamond! This sold out show seen at New Year's Eve w
 as EPIC and so many people have asked to bring it back! Come and enjoy an 
 fantastic evening of dinner and music featuring all your Diamond classics!
  Enjoy all your favorites including "Cherry Cherry"\, "Forever in Blue Jea
 ns"\, "I Am I Said"\, "Cracklin' Rosie"\, "America"\, "Sweet Caroline" and
  many more!\n\nDon't miss this fun evening with JH Travel!\n\nDepart:  3:
 15 p.m.\n\nReturn: 11:45 p.m.\n\nCost Per Person: $162.00\n\nReservation a
 nd payment due by June 30\, 2022 
CATEGORIES:Day Trip
END:VEVENT
BEGIN:VTIMEZONE
TZID:America/Chicago
X-LIC-LOCATION:America/Chicago
BEGIN:DAYLIGHT
DTSTART:20220313T030000
TZOFFSETFROM:-0600
TZOFFSETTO:-0500
TZNAME:CDT
END:DAYLIGHT
END:VTIMEZONE
END:VCALENDAR