BEGIN:VCALENDAR
VERSION:2.0
PRODID:-//wp-events-plugin.com//7.2.3.1//EN
TZID:America/Chicago
X-WR-TIMEZONE:America/Chicago
BEGIN:VEVENT
UID:424@jhtraveltours.com
DTSTART;TZID=America/Chicago:20240530T150000
DTEND;TZID=America/Chicago:20240531T001500
DTSTAMP:20240213T031453Z
URL:https://jhtraveltours.com/events/solitary-man-the-music-of-neil-diamon
 d/
SUMMARY:Solitary Man – The Music of Neil Diamond - #_LOCATIONNAME - 30 Ma
 y 24 15:00
DESCRIPTION:Join JH Travel for an evening of great food &amp\; the wonderfu
 l music of Neil Diamond! \n\nCirca 21 Dinner Playhouse has added an evenin
 g with Brad Hauskins leading a talented cast of musicians and vocalists in
  this tribute to rock 'n' roll hall of famer\, Neil Diamond! This sold out
  show seen in 2022 was awesome and so many people have asked to bring it b
 ack on stage! Come and enjoy a fantastic evening of dinner and music featu
 ring all your Diamond classics! Enjoy all your favorites including "Cherry
  Cherry"\, "Forever in Blue Jeans"\, "I Am I Said"\, "Cracklin' Rosie"\, "
 America"\, "Sweet Caroline" and many more! \n\nDon't miss this fun evening
  with JH Travel! \n\nDepart: 3:00 p.m. \n\nReturn: 12:15 a.m. \n\nCost Per
  Person: $186.00\n\n($100.00 NON-REFUNDABLE DEPOSIT IS DUE AT THE TIME OF 
 SIGNUP AND THE REMAINDER IS DUE BY APRIL 19\, 2024. \n\nReservation and pa
 yment due by April 19\, 2024
ATTACH;FMTTYPE=image/jpeg:https://jhtraveltours.com/wp-content/uploads/202
 4/02/SolitaryManposter-scaled.jpg
CATEGORIES:Day Trip
END:VEVENT
BEGIN:VTIMEZONE
TZID:America/Chicago
X-LIC-LOCATION:America/Chicago
BEGIN:DAYLIGHT
DTSTART:20240310T030000
TZOFFSETFROM:-0600
TZOFFSETTO:-0500
TZNAME:CDT
END:DAYLIGHT
END:VTIMEZONE
END:VCALENDAR