BEGIN:VCALENDAR
VERSION:2.0
PRODID:-//wp-events-plugin.com//7.2.3.1//EN
TZID:America/Chicago
X-WR-TIMEZONE:America/Chicago
BEGIN:VEVENT
UID:291@jhtraveltours.com
DTSTART;TZID=America/Chicago:20190201T070000
DTEND;TZID=America/Chicago:20190201T203000
DTSTAMP:20190105T045402Z
URL:https://jhtraveltours.com/events/southern-iowa-shop-hop-more-friday-fe
 bruary-1-2019/
SUMMARY:Southern Iowa Shop Hop & More - Friday - #_LOCATIONNAME - 1 Feb 19 
 07:00
DESCRIPTION:Two options! Friday\, February 1st - OR - Saturday\, February\,
  2nd\nYou are invited by The Quilted Windmill for a fun day of quilt shopp
 ing along with a tour of the Iowa Quilt Museum and be sure to bring along 
 quilting questions as you will be meeting Marianne Fons from (Fons &amp\; 
 Porter)!\n\nYou may board the coach in Newton or Pella for this fun day! T
 he coach will depart Newton to travel to Pella for free time at The Quilte
 d Windmill followed by stops at the following:\n\n*Cindy Lou's Quilt Shop 
 (Chariton)              *Snip of Thread Quilt Shop (Humeston)
 \n\n*Quilt With Us (Lucas)                        
           *Piece Works Quilt Shop (Winterset)\n\n*Iowa Quilt Muse
 um with Q &amp\; A with       *Ben Franklin Store (Winterset)\nMarian
 ne Fons (Winterset)\n\nIncluded:  Motor coach\, driver tip\, complimentar
 y goodie bag &amp\; water\, boxed lunch\, Iowa Quilt Museum admittance\, Q
  &amp\; A with Marianne Fons\, light evening meal and LOTS OF FUN!\n\nDepa
 rt:  7:00 a.m. - Newton                         
   8:15 a.m. - Pella\n\nReturn:  7:45 p.m. - Pella            
                     8:30 p.m. - Newton\n\nCost Per Pers
 on:  $88.00\n\nReservation and payment due by January 18\, 2019
ATTACH;FMTTYPE=image/jpeg:https://jhtraveltours.com/wp-content/uploads/201
 9/01/Trip-Header.png
CATEGORIES:Day Trip
END:VEVENT
BEGIN:VTIMEZONE
TZID:America/Chicago
X-LIC-LOCATION:America/Chicago
BEGIN:STANDARD
DTSTART:20181104T010000
TZOFFSETFROM:-0500
TZOFFSETTO:-0600
TZNAME:CST
END:STANDARD
END:VTIMEZONE
END:VCALENDAR