BEGIN:VCALENDAR
VERSION:2.0
PRODID:-//wp-events-plugin.com//7.2.3.1//EN
TZID:America/Chicago
X-WR-TIMEZONE:America/Chicago
BEGIN:VEVENT
UID:296@jhtraveltours.com
DTSTART;TZID=America/Chicago:20190430T070000
DTEND;TZID=America/Chicago:20190430T201500
DTSTAMP:20190214T044156Z
URL:https://jhtraveltours.com/events/spring-time-mystery-trip/
SUMMARY:Spring Time Mystery Trip - #_LOCATIONNAME - 30 Apr 19 07:00
DESCRIPTION:April 30\, 2019 (Tuesday) \n\nWe have been asked several times 
 to have two mystery trips each year and so this year we are offering TWO d
 iscovery and adventure "where are we going" experiences!\n\nNorth\, South\
 , East or West - which way are we headed?? Sorry\, can't share the exact d
 etails with you although here are some hints: learning about the King (not
  Elvis)\, 110 ft high delight\, a light in the dark\, a healthy simulation
  center\, "time" for lunch and a mineral visit for the evening meal! Our d
 ay will begin with coffee &amp\; pastries and it is suggested to wear comf
 ortable shoes for this fun adventure!\n\nBe sure to sign up early as our m
 ystery trips tend to fill up quickly - so don't wait too long to make thos
 e reservations!\n\nDepart:  7:00 a.m.\n\nReturn:  8:15 p.m.\n\nCost Per 
 Person:  $156.00\n\nReservation and payment due by April 10\, 2019 
ATTACH;FMTTYPE=image/jpeg:https://jhtraveltours.com/wp-content/uploads/201
 9/02/Spring-Mystery-Trip.png
CATEGORIES:Day Trip
END:VEVENT
BEGIN:VTIMEZONE
TZID:America/Chicago
X-LIC-LOCATION:America/Chicago
BEGIN:DAYLIGHT
DTSTART:20190310T030000
TZOFFSETFROM:-0600
TZOFFSETTO:-0500
TZNAME:CDT
END:DAYLIGHT
END:VTIMEZONE
END:VCALENDAR