BEGIN:VCALENDAR
VERSION:2.0
PRODID:-//wp-events-plugin.com//7.2.3.1//EN
TZID:America/Chicago
X-WR-TIMEZONE:America/Chicago
BEGIN:VEVENT
UID:165@jhtraveltours.com
DTSTART;TZID=America/Chicago:20160512T121500
DTEND;TZID=America/Chicago:20160512T190000
DTSTAMP:20150909T024843Z
URL:https://jhtraveltours.com/events/steeple-people/
SUMMARY:Steeple People - #_LOCATIONNAME - 12 May 16 12:15
DESCRIPTION:This will be our first 2016 production at the Old Creamery Thea
 tre and it sounds like one we definitely don't want to miss! Don't forget 
 that we have premium seating at all matinee performances presented at the 
 Old Creamery Theatre! \n\nA brand new Southern Gospel Comedy. Great gospel
  tunes are performed by the "Steeple People" men's quartet of Stinking Cre
 ek\, Tennessee as they sponsor a benefit concert and clothing drive. Tight
  harmonies\, terrific music and lots of laughs! \n\nFollowing this comedy 
 show our evening meal will be served at the English Valley Bed &amp\; Brea
 kfast near Montezuma. Looking forward to the first show of the season and 
 hope to have you join us! \n\nDepart: 12:15 p.m.\nReturn: 7:00 p.m. \n\nCo
 st Per Person: $103.00\n\nReservation and payment due by April 21\, 2016 
ATTACH;FMTTYPE=image/jpeg:https://jhtraveltours.com/wp-content/uploads/201
 5/09/SteeplePeople.png
CATEGORIES:Day Trip
END:VEVENT
BEGIN:VTIMEZONE
TZID:America/Chicago
X-LIC-LOCATION:America/Chicago
BEGIN:DAYLIGHT
DTSTART:20160313T030000
TZOFFSETFROM:-0600
TZOFFSETTO:-0500
TZNAME:CDT
END:DAYLIGHT
END:VTIMEZONE
END:VCALENDAR