BEGIN:VCALENDAR
VERSION:2.0
PRODID:-//wp-events-plugin.com//7.2.3.1//EN
TZID:America/Chicago
X-WR-TIMEZONE:America/Chicago
BEGIN:VEVENT
UID:270@jhtraveltours.com
DTSTART;TZID=America/Chicago:20180804T061500
DTEND;TZID=America/Chicago:20180805T210000
DTSTAMP:20180604T005631Z
URL:https://jhtraveltours.com/events/stillwater-getaway/
SUMMARY:Stillwater Getaway - #_LOCATIONNAME - 4 Aug 18 06:15
DESCRIPTION:Excited and hope you are too for this weekend trip that offers 
 a variety of activities that include a dinner playhouse with lunch\, shopp
 ing\, narrated trolley tour\, historic home tour and free time in Stillwat
 er\, MN all in just two days!\n\nHeaded to Minnesota we begin with a morn
 ing stop at Lake Coffee &amp\; Ice Cream for coffee &amp\; a muffin! Our 
 first attraction will be the Chanhassen Dinner Theatre to see the producti
 on of "Disney's Newsies - The Broadway Musical"! Inspired by the real-lif
 e Newsboys Strike of 1899 in New York City\, Jack Kelly hawks the headlin
 es day-in and day-out with countless other newsboys trying to save enough 
 to make his dreams a reality. New York World publisher\, Joseph Pulitzer\
 , realizes he can maximize profits by raising the price of the “papes”
  and does so without a word to the “Newsies.” Upon seeing Pulitzer’
 s greed\, the newsboys protest and declare a strike against all the publi
 shing giants. Realizing it will take more than his friends to make a diffe
 rence\, Jack rallies all the “Newsies” in New York City. Through cour
 age\, determination\, and friendship the “Newsies” are ready to seize
  the day and take a stand.\n\nWe then travel to Eagan\, MN to our overnigh
 t accommodation at Hampton Inn. A little rest and we move onto our evenin
 g meal at Cafe Zupa's. After dinner your choice is a little shopping at th
 e Twin Cities Premium Outlet Mall or be delivered back to the hotel for a
 n early evening. After breakfast on Sunday\, we travel to Stillwater for 
 a narrated old-time trolley tour where we will experience the charm and b
 eauty of Stillwater located on the banks of the scenic St. Croix River. St
 illwater is best known as the “Birthplace of Minnesota.” It evolved f
 rom a booming lumber town full of beautiful old Victorian Mansions to “
 One of the prettiest little towns in America”. The Stillwater community 
 once was given the choice of having a university or a prison - the folks 
 chose the prison. We will tour the Home of the Prison Warden followed by 
 a short ride downtown with free time the rest of the afternoon. We then bo
 ard the coach for our return trip back to Newton with great memories of o
 ur "Stillwater Getaway". (A fast food stop and restroom break along the w
 ay back)\n\nTour includes: motor coach transportation with driver tip\, ov
 ernight accommodation at Hampton Inn\, 3 meals (lunch at Chanhassen Dinne
 r Theatre\, evening meal at Cafe Zupa's\, hot breakfast buffet)\, morning 
 break with coffee &amp\; muffin\, narrated tour on Stillwater Trolley\, t
 our of the Home of the Prison Warden\, taxes &amp\; gratuities on the abo
 ve mentioned meals &amp\; attractions.\n\nDepart: 6:15 a.m. Return: 9:00 p
 .m.\n\nCost Per Person: $317.00 Quad $327.00 Triple $349.00 Double $423.00
  Single\n\nDeposit in the amount of $100.00 will be due at the time of sig
 nup. Final balance will be due by June 27\,\n\n2018.
CATEGORIES:Short Trip
END:VEVENT
BEGIN:VTIMEZONE
TZID:America/Chicago
X-LIC-LOCATION:America/Chicago
BEGIN:DAYLIGHT
DTSTART:20180311T030000
TZOFFSETFROM:-0600
TZOFFSETTO:-0500
TZNAME:CDT
END:DAYLIGHT
END:VTIMEZONE
END:VCALENDAR