BEGIN:VCALENDAR
VERSION:2.0
PRODID:-//wp-events-plugin.com//7.2.3.1//EN
TZID:America/Chicago
X-WR-TIMEZONE:America/Chicago
BEGIN:VEVENT
UID:54@jhtraveltours.com
DTSTART;TZID=America/Chicago:20121210T093000
DTEND;TZID=America/Chicago:20121210T164500
DTSTAMP:20120524T040823Z
URL:https://jhtraveltours.com/events/tea-at-terrace-hill/
SUMMARY:Tea at Terrace Hill - #_LOCATIONNAME - 10 Dec 12 09:30
DESCRIPTION:This special holiday trip begins with a visit to Terrace Hill f
 or tea and lunch with First Lady Chris Branstad (upon availability). Terr
 ace Hill is the official home of Iowa’s governor and his family which wi
 ll be beautifully decorated for the holiday season. Enjoy the many Christ
 mas trees throughout the seating areas\, sweeping garland and decorations 
 that make this a wonderful time to visit! Everyone will be served an elega
 nt lunch followed by dessert. This is truly a wonderful experience that i
 s followed by a program at the Carriage House (not yet determined). After 
 some free time looking at the displays and gift shop we will travel to Cac
 he Bakery in Clive\, Iowa. Humm. . . upon our arrival the “yummy” sm
 ell of fresh baked cakes and desserts will greet us at the door! A tour o
 f the bakery will be first followed by a demonstration from start-to-finis
 h on bite size desserts followed by some very serious taste testing. Lear
 n what is new in the dessert world and bring along some questions!\n\nThis
  trip is always a holiday favorite and we have only 38 reservations and al
 ready have several ladies signed up – so don’t wait too long before yo
 u call for a reservation!\n\nReservation and payment due by October 12\, 2
 012 
CATEGORIES:Short Trip
LOCATION:#_LOCATIONNAME\, #_LOCATIONFULLLINE\, #_LOCATIONCOUNTRY
GEO:41.5833;-93.6492
X-APPLE-STRUCTURED-LOCATION;VALUE=URI;X-ADDRESS=#_LOCATIONFULLLINE\, #_LOCA
 TIONCOUNTRY;X-APPLE-RADIUS=100;X-TITLE=#_LOCATIONNAME:geo:41.5833,-93.6492
END:VEVENT
BEGIN:VTIMEZONE
TZID:America/Chicago
X-LIC-LOCATION:America/Chicago
BEGIN:STANDARD
DTSTART:20121104T010000
TZOFFSETFROM:-0500
TZOFFSETTO:-0600
TZNAME:CST
END:STANDARD
END:VTIMEZONE
END:VCALENDAR