BEGIN:VCALENDAR
VERSION:2.0
PRODID:-//wp-events-plugin.com//7.2.3.1//EN
TZID:America/Chicago
X-WR-TIMEZONE:America/Chicago
BEGIN:VEVENT
UID:212@jhtraveltours.com
DTSTART;TZID=America/Chicago:20170725T071500
DTEND;TZID=America/Chicago:20170725T203000
DTSTAMP:20170509T035703Z
URL:https://jhtraveltours.com/events/tea-room-trip-2017/
SUMMARY:Tea Room Trip 2017 - #_LOCATIONNAME - 25 Jul 17 07:15
DESCRIPTION:Second Coach Added\nLadies! We have an exciting day planned for
  you that includes: shopping time\, variety of food\, fashion review\, sty
 le show and an opportunity to spend time with friends!\n\n&nbsp\;\n\nOur d
 ay begins with brunch at the Kava House in Swisher\, Iowa which will provi
 de breakfast casserole\, fruit &amp\; a scone followed by some meandering 
 time in the gift shop. Board the coach to our next stop which is in Manche
 ster at Castle Theatre. \n\n[caption id="" align="aligncenter" width="1000
 "] Castle Theatre[/caption]\n\nSit back &amp\; relax to enjoy the Merchand
 iser's March &amp\; Fashion Show by the merchants of Manchester as you wil
 l have time for shopping later on that afternoon. A scrumptious lunch awai
 ts us at the Bread Basket where we have a hot main entree chosen for you A
 ND you won't go away hungry! Free time to follow for shopping before high 
 tea &amp\; white chocolate banana creme pie which will be served at the Br
 ead Basket. Enjoy the pie as they are known community wide for this "yummy
 " pie! Next\, on the itinerary is a "Fashion Review by Diane Blatt" in whi
 ch you will be amazed from the high waist to the drop waist of designs alo
 ng with the eras you are sure to be impressed at the variety of clothing t
 hat will be modeled for our personal style review! \n\nOur last stop for t
 he day will be at the Peppercorn Pantry located in Aplington for our eveni
 ng meal. A little time for shopping at the tea room before leaving for our
  trip back to Newton with fond memories of our annual "Tea Room Trip"!\n\n
 Please sign up quickly as we only have 40 reservations available due to sp
 ace in the tea rooms! Mark your calendar\, call or email your reservations
  today! \n\nDepart: 7:15 a.m.\nReturn: 8:30 p.m. \n\nCost Per Person: $143
 .00\n\nReservations and payment due by July 6\, 2017
ATTACH;FMTTYPE=image/jpeg:https://jhtraveltours.com/wp-content/uploads/201
 6/12/Tea-Room-Trip.png
CATEGORIES:Day Trip
END:VEVENT
BEGIN:VTIMEZONE
TZID:America/Chicago
X-LIC-LOCATION:America/Chicago
BEGIN:DAYLIGHT
DTSTART:20170312T030000
TZOFFSETFROM:-0600
TZOFFSETTO:-0500
TZNAME:CDT
END:DAYLIGHT
END:VTIMEZONE
END:VCALENDAR