BEGIN:VCALENDAR
VERSION:2.0
PRODID:-//wp-events-plugin.com//7.2.3.1//EN
TZID:America/Chicago
X-WR-TIMEZONE:America/Chicago
BEGIN:VEVENT
UID:269@jhtraveltours.com
DTSTART;TZID=America/Chicago:20180717T064500
DTEND;TZID=America/Chicago:20180717T204500
DTSTAMP:20180603T233606Z
URL:https://jhtraveltours.com/events/tea-room-trip-4/
SUMMARY:Tea Room Trip - #_LOCATIONNAME - 17 Jul 18 06:45
DESCRIPTION:Ladies! We have an exciting day planned for you that includes: 
 a style show\, hands on project (no sewing required)\, shopping time\, a v
 isit to an apple orchard with program &amp\; displays\, gift ideas shared 
 and a great time with friends!\n\nOur day begins with brunch arranged by M
 rs. T's Mercantile in Vincent\, IA where Tonya will be decorated for a Sum
 mer Tea Party! Our brunch menu includes: egg casserole\, fruit with muffin
  and coffee/hot tea. A fun hands on project follows the meal and if you ar
 e a quilter check out Mrs. T's Mercantile for fabric &amp\; quilting notio
 ns. Onto Tea Thyme at Sadies &amp\; Thyme to Shop in Ft. Dodge where a cho
 ice of four main entrees will be given and of course. . . a slice of her f
 amous pie for dessert. A short program showing some delightful choices fro
 m their gift shop highlighting the perfect gift for that hard person to bu
 y for on your list! The Community Orchard in Ft. Dodge is next on our itin
 erary where Bev\, the owner will welcome our group. Shown will be their ap
 ple peeler that peals 80 apples in one minute and a cooking class on apple
  dumplings &amp\; dough rolling while other travelers will be shopping in 
 the retail area. A special apple turnover will be packaged and given to ea
 ch traveler to be enjoyed later.\n\nOur final town that will be visited on
  our annual "Tea Room Trip" is Jefferson\, IA. The first group will head t
 o Angie's Tea Garden for an evening meal before traveling across the squar
 e for a program entitled "Multiple Ways to Dress Up that Little Black Dres
 s" and a short style show at Addies with sometime in The Printer's Box &am
 p\; Sensibly Chic to check out their gift ideas and home decor.\n\nWell\, 
 time to head back to Newton with fond memories of our 2018 "Tea Room Trip"
 !\n\nPlease sign up quickly as we have limited space at the tea rooms! Mar
 k your calendar\, call or email your reservations today! If the need arise
 s a second coach will be added only after the first 40 reservations are ta
 ken. Reservations WILL NOT be changed between coaches. \n\nDepart:  6:45 
 a.m.\nReturn:  8:45 p.m.\n\nCost Per Person:  $154.00\n\nReservations an
 d payment due by June 22\, 2018
ATTACH;FMTTYPE=image/jpeg:https://jhtraveltours.com/wp-content/uploads/201
 8/06/TeaTrip2018.png
CATEGORIES:Day Trip
END:VEVENT
BEGIN:VTIMEZONE
TZID:America/Chicago
X-LIC-LOCATION:America/Chicago
BEGIN:DAYLIGHT
DTSTART:20180311T030000
TZOFFSETFROM:-0600
TZOFFSETTO:-0500
TZNAME:CDT
END:DAYLIGHT
END:VTIMEZONE
END:VCALENDAR