BEGIN:VCALENDAR
VERSION:2.0
PRODID:-//wp-events-plugin.com//7.2.3.1//EN
TZID:America/Chicago
X-WR-TIMEZONE:America/Chicago
BEGIN:VEVENT
UID:52@jhtraveltours.com
DTSTART;TZID=America/Chicago:20120815T070000
DTEND;TZID=America/Chicago:20120815T210000
DTSTAMP:20120524T035416Z
URL:https://jhtraveltours.com/events/tea-room-trip/
SUMMARY:Tea Room Trip - #_LOCATIONNAME - 15 Aug 12 07:00
DESCRIPTION:JH Travel has a wonderful day planned with brunch\, a style sho
 w\, a showing of a person’s creativity\, lunch\, free time (retail thera
 py) along with an evening meal at a very special place!
CATEGORIES:Day Trip
END:VEVENT
BEGIN:VTIMEZONE
TZID:America/Chicago
X-LIC-LOCATION:America/Chicago
BEGIN:DAYLIGHT
DTSTART:20120311T030000
TZOFFSETFROM:-0600
TZOFFSETTO:-0500
TZNAME:CDT
END:DAYLIGHT
END:VTIMEZONE
END:VCALENDAR