BEGIN:VCALENDAR
VERSION:2.0
PRODID:-//wp-events-plugin.com//7.2.3.1//EN
TZID:America/Chicago
X-WR-TIMEZONE:America/Chicago
BEGIN:VEVENT
UID:187@jhtraveltours.com
DTSTART;TZID=America/Chicago:20160809T064500
DTEND;TZID=America/Chicago:20160809T201500
DTSTAMP:20160408T055429Z
URL:https://jhtraveltours.com/events/tea_room_trip/
SUMMARY:Tea Room Trip - #_LOCATIONNAME - 9 Aug 16 06:45
DESCRIPTION:Ladies! We have an exciting day planned for you that includes: 
 an opportunity to see beautiful flowers\, shopping time\, style show\, cho
 colate &amp\; candy tour and the opportunity to spend time with friends! \
 n\nOur day begins with brunch at the Des Moines Botanical Center followed 
 by a tour of the beautifully kept conservatory and indoor garden inside th
 e famous dome! A fashion show with glimpses of autumn trends &amp\; styles
  at Fashion By the Hall Tree in Urbandale with shopping time before we boa
 rd the coach to our lunch destination at Tulip Tea Room &amp\; Gift Shop i
 n Pella. Enjoy lunch in this charming 1915 home that offers a gift shop th
 at offers all kinds of trinkets! Following lunch some free time downtown t
 o visit the bakery &amp\; meat market or enjoy the history of the Dutch la
 ndscape. Sit back and relax for the drive to Chariton for a visit &amp\; t
 our of Piper's Old Fashioned Grocery\, which has remained a family owned b
 usiness for many years! Here comes the chocolate part of our day . .  a c
 hocolate &amp\; candy tour! Awesome! \n\nOur last stop for the day will be
  at Slykhuis Twilight Tea Room in Williamson for our evening meal. Formerl
 y the Williamson School\, it has been renovated for an elegant experience 
 complete with chocolate satin linens. A main entrée choice is needed when
  making your reservation that includes:  pecan pork loin or mushroom/swis
 s chicken breast. A dinner salad\, main entrée with a vegetable\, assorte
 d rolls &amp\; bread along with your choice of a decadent dessert featured
  on tiered stands. \n\nPlease sign up quickly as we only have 38 reservati
 ons available due to space in the tea rooms! Mark your calendar\, call or 
 email your reservations today! \n\nDepart:  6:45 a.m. \n\nReturn:  8:15 
 p.m. \n\nCost Per Person:  $139.00\n\nReservation and payment due by July
 18\, 2016
ATTACH;FMTTYPE=image/jpeg:https://jhtraveltours.com/wp-content/uploads/201
 6/04/TeaRoom.png
CATEGORIES:Day Trip
END:VEVENT
BEGIN:VTIMEZONE
TZID:America/Chicago
X-LIC-LOCATION:America/Chicago
BEGIN:DAYLIGHT
DTSTART:20160313T030000
TZOFFSETFROM:-0600
TZOFFSETTO:-0500
TZNAME:CDT
END:DAYLIGHT
END:VTIMEZONE
END:VCALENDAR