BEGIN:VCALENDAR
VERSION:2.0
PRODID:-//wp-events-plugin.com//7.2.3.1//EN
TZID:America/Chicago
X-WR-TIMEZONE:America/Chicago
BEGIN:VEVENT
UID:209@jhtraveltours.com
DTSTART;TZID=America/Chicago:20170707T121500
DTEND;TZID=America/Chicago:20170707T184500
DTSTAMP:20161027T002836Z
URL:https://jhtraveltours.com/events/thatll-day-tribute-buddy-holly-cricke
 ts/
SUMMARY:That'll Be The Day:  A Tribute to Buddy Holly and the Crickets - #_
 LOCATIONNAME - 7 Jul 17 12:15
DESCRIPTION:"That'll Be The Day:  A Tribute to Buddy Holly and the Cricket
 s" \n\nJuly 7\, 2017 (Friday) \n\nMade up of cast members from the nationa
 l tour of the hit musical\, BUDDY- THE BUDDY HOLLY STORY\, Todd Meredith &
 amp\; the Rave-Ons are a high energy rockabilly band originally formed to 
 revitalize the music of Buddy Holly and the Crickets.  Unlike other tribu
 te bands of the same nature\, all members of the Rave-Ons exhibit a youthf
 ul quality reminiscent of The Cricks and give their shows an energy and ex
 uberance that cannot be matched.\n\nThis matinee show will be seen at Old 
 Creamery Theatre - don't forget our premium front row seating! Following t
 he show a family style meal will be served at the Ronnenburg Restaurant in
  Amana with all your favorite fixings!\n\nHope to have you join us for Bud
 dy Holly and The Crickets music - get ready to sing along to those familia
 r songs!\n\nDepart:  12:15 p.m.\nReturn:  6:45 p.m.\n\nCost Per Person:
   $119.00\n\nReservation due by June 12\, 2017 
ATTACH;FMTTYPE=image/jpeg:https://jhtraveltours.com/wp-content/uploads/201
 6/10/Rave-Ons.png
CATEGORIES:Day Trip
END:VEVENT
BEGIN:VTIMEZONE
TZID:America/Chicago
X-LIC-LOCATION:America/Chicago
BEGIN:DAYLIGHT
DTSTART:20170312T030000
TZOFFSETFROM:-0600
TZOFFSETTO:-0500
TZNAME:CDT
END:DAYLIGHT
END:VTIMEZONE
END:VCALENDAR