BEGIN:VCALENDAR
VERSION:2.0
PRODID:-//wp-events-plugin.com//7.2.3.1//EN
TZID:America/Chicago
X-WR-TIMEZONE:America/Chicago
BEGIN:VEVENT
UID:352@jhtraveltours.com
DTSTART;TZID=America/Chicago;VALUE=DATE:20220711
DTEND;TZID=America/Chicago;VALUE=DATE:20220716
DTSTAMP:20210806T035622Z
URL:https://jhtraveltours.com/events/the-ark-encounter-and-creation-museum
 -2022/
SUMMARY:The Ark Encounter and Creation Museum - 2022 - #_LOCATIONNAME - 11 
 Jul 22 00:00
DESCRIPTION:[pdf-embedder url="https://jhtraveltours.com/wp-content/uploads
 /2021/08/1858171-5A1700_1.pdf" title="Ark Encounter"]\n\nDownload Brochure
  Here.\n\n 	Motorcoach transportation\n 	4 nights lodging in the Cincinnat
 i area\n 	8 meals: 4 breakfasts and 4 dinners\n 	Admission to the Stunning
  – ARK ENCOUNTER!\n 	Admission to the Famous CREATION MUSEUM\n 	Admissio
 n to the NEWPORT AQUARIUM\n 	BB RIVERBOATS SIGHTSEEING CRUISE along the Oh
 io River\n\nOptional Insurance Flyer:\n\n[pdf-embedder url="https://jhtrav
 eltours.com/wp-content/uploads/2021/08/TravelInsuranceFlyer.pdf"]\n\nDownl
 oad Insurance Flyer Here.
CATEGORIES:Extended Trip
END:VEVENT
BEGIN:VTIMEZONE
TZID:America/Chicago
X-LIC-LOCATION:America/Chicago
BEGIN:DAYLIGHT
DTSTART:20220313T030000
TZOFFSETFROM:-0600
TZOFFSETTO:-0500
TZNAME:CDT
END:DAYLIGHT
END:VTIMEZONE
END:VCALENDAR