BEGIN:VCALENDAR
VERSION:2.0
PRODID:-//wp-events-plugin.com//7.2.3.1//EN
TZID:America/Chicago
X-WR-TIMEZONE:America/Chicago
BEGIN:VEVENT
UID:341@jhtraveltours.com
DTSTART;TZID=America/Chicago;VALUE=DATE:20210830
DTEND;TZID=America/Chicago;VALUE=DATE:20210904
DTSTAMP:20210330T015034Z
URL:https://jhtraveltours.com/events/the-ark-encounter-and-creation-museum
 /
SUMMARY:The Ark Encounter and Creation Museum - #_LOCATIONNAME - 30 Aug 21 
 00:00
DESCRIPTION:[pdf-embedder url="https://jhtraveltours.com/wp-content/uploads
 /2021/03/1780943-5A1600_MOD_3.pdf" title="Ark Encounter 2021"]\n\nDownload
  Brochure here.\n\n 	Motorcoach transportation\n 	4 nights lodging in the 
 Cincinnati area\n 	8 meals: 4 breakfasts and 4 dinners\n 	Admission to the
  Stunning – ARK ENCOUNTER!\n 	Admission to the Famous CREATION MUSEUM\n 
 	Admission to the NEWPORT AQUARIUM\n 	BB RIVERBOATS SIGHTSEEING CRUISE alo
 ng the Ohio River\n\nTravel Insurance Information:\n\n[pdf-embedder url="h
 ttps://jhtraveltours.com/wp-content/uploads/2021/03/TravelInsuranceFlyerAr
 k-Encounter-2021.pdf" title="TravelInsuranceFlyer(Ark Encounter 2021)"]
CATEGORIES:Extended Trip
END:VEVENT
BEGIN:VTIMEZONE
TZID:America/Chicago
X-LIC-LOCATION:America/Chicago
BEGIN:DAYLIGHT
DTSTART:20210314T030000
TZOFFSETFROM:-0600
TZOFFSETTO:-0500
TZNAME:CDT
END:DAYLIGHT
END:VTIMEZONE
END:VCALENDAR