BEGIN:VCALENDAR
VERSION:2.0
PRODID:-//wp-events-plugin.com//7.2.3.1//EN
TZID:America/Chicago
X-WR-TIMEZONE:America/Chicago
BEGIN:VEVENT
UID:78@jhtraveltours.com
DTSTART;TZID=America/Chicago:20130716T000000
DTEND;TZID=America/Chicago:20130716T000000
DTSTAMP:20130228T064119Z
URL:https://jhtraveltours.com/events/the-bretts/
SUMMARY:The Bretts - #_LOCATIONNAME - 16 Jul 13 00:00
DESCRIPTION:Direct from Branson! Join JH Travel for this family show that p
 romises high energy\, high caliber professional entertainment to audiences
  of all ages! The Brett’ show is celebrating their 15th anniversary in t
 he Branson area! This musical and comedy show was voted #1 by our traveler
 s on a past Branson trip!\n\nThis is a matinee show scheduled at the Old C
 reamery Theatre with our favorite front row seating! Following this specta
 cular show our evening meal will be served family style at Ox Yoke Inn whi
 ch will include all the favorite Amana fixings’! Our meal will begin wit
 h salads\, potatoes &amp\; gravy\, fried chicken and smoked ham\, breads\,
  vegetable and of course dessert with chocolate peanut butter pie or cocon
 ut crème.  Sounds YUMMY!\n\nA limited amount of seating was obtained for
  this show – so check your calendars and make your reservation today! Ho
 pe to have you join us!
CATEGORIES:Day Trip
LOCATION:#_LOCATIONNAME\, #_LOCATIONFULLLINE\, #_LOCATIONCOUNTRY
GEO:41.8063;-91.8843
X-APPLE-STRUCTURED-LOCATION;VALUE=URI;X-ADDRESS=#_LOCATIONFULLLINE\, #_LOCA
 TIONCOUNTRY;X-APPLE-RADIUS=100;X-TITLE=#_LOCATIONNAME:geo:41.8063,-91.8843
END:VEVENT
BEGIN:VTIMEZONE
TZID:America/Chicago
X-LIC-LOCATION:America/Chicago
BEGIN:DAYLIGHT
DTSTART:20130310T030000
TZOFFSETFROM:-0600
TZOFFSETTO:-0500
TZNAME:CDT
END:DAYLIGHT
END:VTIMEZONE
END:VCALENDAR