BEGIN:VCALENDAR
VERSION:2.0
PRODID:-//wp-events-plugin.com//7.2.3.1//EN
TZID:America/Chicago
X-WR-TIMEZONE:America/Chicago
BEGIN:VEVENT
UID:163@jhtraveltours.com
DTSTART;TZID=America/Chicago:20151205T121500
DTEND;TZID=America/Chicago:20151205T191500
DTSTAMP:20150902T023943Z
URL:https://jhtraveltours.com/events/the-bridges-of-madison-county/
SUMMARY:The Bridges of Madison County - #_LOCATIONNAME - 5 Dec 15 12:15
DESCRIPTION:National Tour Launch! This unforgettable story of two people ca
 ught between decision and desire\, as a chance encounter becomes a second 
 chance at so much more! A two time Tony Award winning Broadway musical fea
 tures gorgeous\, soulful music by composer Jason Robert Brown and that the
  Daily News hails as "one of the Broadway's best scores in the last decade
 ! \n\nFollowing this matinee show at the Des Moines Performing Arts our ev
 ening meal will be served at The Latin King with three choices of main ent
 ree and explanations following the choices: Chicken Spiedini (boneless bre
 asts of chicken skewered and marinated and rolled in Italian breadcrumbs a
 nd charbroiled. Served with Amogio sauce.) - Manicotti al Forno (homemade 
 pasta filled with ricotta and mozzarella) - Baked Lasagna (pasta layered w
 ith Italian meat sauce\, ricotta cheese filling and tomato sauce. Oven bak
 ed and ladled with our zesty red sauce. Each meal is served with a salad\,
  bread basket and non-alcoholic drink with a dessert choice of: Tiramisu\,
  Tartufo\, Carrot Cake or Cannoli. \n\nWe have a very limited number of re
 servations for this spectacular production! Hope to have you join us and p
 lease don't forget to check the deadline for payment as it is earlier due 
 to the DSM Performing Arts final payment deadline!\n\nDepart: 12:15 p.m.\n
 Return: 7:15 p.m. \n\nCost Per Person: $172.00\n\nReservation and payment 
 due by October 8\, 2015
ATTACH;FMTTYPE=image/jpeg:https://jhtraveltours.com/wp-content/uploads/201
 5/09/BridgesOfMadison-e1441160567643.jpg
CATEGORIES:Day Trip
END:VEVENT
BEGIN:VTIMEZONE
TZID:America/Chicago
X-LIC-LOCATION:America/Chicago
BEGIN:STANDARD
DTSTART:20151101T010000
TZOFFSETFROM:-0500
TZOFFSETTO:-0600
TZNAME:CST
END:STANDARD
END:VTIMEZONE
END:VCALENDAR