BEGIN:VCALENDAR
VERSION:2.0
PRODID:-//wp-events-plugin.com//7.2.3.1//EN
TZID:America/Chicago
X-WR-TIMEZONE:America/Chicago
BEGIN:VEVENT
UID:219@jhtraveltours.com
DTSTART;TZID=America/Chicago:20170729T161500
DTEND;TZID=America/Chicago:20170729T223000
DTSTAMP:20170113T044615Z
URL:https://jhtraveltours.com/events/the-carpenters-once-more/
SUMMARY:The Carpenters Once More - #_LOCATIONNAME - 29 Jul 17 16:15
DESCRIPTION:Come celebrate one unforgettable voice with the sounds of "The 
 Carpenters Once More" featuring Diana Lynn\, direct from Branson! This hea
 rtwarming show highlights hits like "Yesterday Once More"\, "Close to You"
 \, "For All We Know"\, "We've Only Just Begun"\, "Postman"\, "Ticket to Ri
 de" and many more!\n\nOur first stop will be at Ox Yoke Inn for a "yummy" 
 meal with all your Amana fixings prior to the show! Relax and enjoy the me
 al before departing for the evening show at Old Creamery Theatre in Amana\
 , Iowa.\n\nHope to have you join us! We are sure you will be tapping your 
 toe remembering the duo of Karen &amp\; Rich as your favorite Carpenter so
 ngs are sung!\n\nDepart:  4:15 p.m.\nReturn:  10:30 p.m.\n\nCost Per Per
 son:  $119.00\n\nReservation and payment are due by June 29\, 2017
ATTACH;FMTTYPE=image/jpeg:https://jhtraveltours.com/wp-content/uploads/201
 7/01/CarpentersLogo_Blue_slide21.jpg
CATEGORIES:Day Trip
END:VEVENT
BEGIN:VTIMEZONE
TZID:America/Chicago
X-LIC-LOCATION:America/Chicago
BEGIN:DAYLIGHT
DTSTART:20170312T030000
TZOFFSETFROM:-0600
TZOFFSETTO:-0500
TZNAME:CDT
END:DAYLIGHT
END:VTIMEZONE
END:VCALENDAR