BEGIN:VCALENDAR
VERSION:2.0
PRODID:-//wp-events-plugin.com//7.2.3.1//EN
TZID:America/Chicago
X-WR-TIMEZONE:America/Chicago
BEGIN:VEVENT
UID:216@jhtraveltours.com
DTSTART;TZID=America/Chicago:20170520T161500
DTEND;TZID=America/Chicago:20170520T223000
DTSTAMP:20170113T042618Z
URL:https://jhtraveltours.com/events/the-hank-williams-tribute/
SUMMARY:The Hank Williams Tribute - #_LOCATIONNAME - 20 May 17 16:15
DESCRIPTION:There is only one Hank Williams and only one actor who can brin
 g him to life . . . which is Jason Petty! Jason is the only actor to portr
 ay Hank Williams in New City's Hit off Broadway musical "Lost Highway" whe
 re he won multiple nominations for his performance. He has also portrayed 
 Williams at Nashville's world famous Ryman Auditorium in "Lost Highway" an
 d had over a dozen appearances at the Grand Old Opry!\n\nMore than a tribu
 te! Direct from the historic stages of Nashville Tennessee comes “Hank W
 illiams – The Lonesome Tour” starring Jason Petty in a show that will 
 instantly transport you back to the early 1950’s when Hank Williams Seni
 or was the biggest name in country music anywhere. Sit back and relax and 
 let Jason Petty transform you back to another day and time… the days of 
 Hank Williams. This will be an evening the audience will never forget.\n\n
 Before this evening show at Old Creamery Theatre a scrumptious family styl
 e meal will be served at Ox Yoke Inn with all your Amana favorites! Enjoy 
 your meal and then sit back &amp\; relax for this special tribute!\n\nCome
  along and tap your toe with your favorite music! Limited reservations are
  available for "The Hank Williams Tribute"!\n\nDepart:  4:15 p.m.\nReturn
 :  10:30 p.m.\n\nCost Per Person:  $119.00\n\nReservations and payment d
 ue by April 28\, 2017 
ATTACH;FMTTYPE=image/jpeg:https://jhtraveltours.com/wp-content/uploads/201
 7/01/HankWilliams_slide1.jpg
CATEGORIES:Day Trip
END:VEVENT
BEGIN:VTIMEZONE
TZID:America/Chicago
X-LIC-LOCATION:America/Chicago
BEGIN:DAYLIGHT
DTSTART:20170312T030000
TZOFFSETFROM:-0600
TZOFFSETTO:-0500
TZNAME:CDT
END:DAYLIGHT
END:VTIMEZONE
END:VCALENDAR