BEGIN:VCALENDAR
VERSION:2.0
PRODID:-//wp-events-plugin.com//7.2.3.1//EN
TZID:America/Chicago
X-WR-TIMEZONE:America/Chicago
BEGIN:VEVENT
UID:359@jhtraveltours.com
DTSTART;TZID=America/Chicago:20220509T091500
DTEND;TZID=America/Chicago:20220509T181500
DTSTAMP:20211104T170455Z
URL:https://jhtraveltours.com/events/the-lettermen-2/
SUMMARY:The Lettermen - #_LOCATIONNAME - 9 May 22 09:15
DESCRIPTION:Join JH Travel for a special matinee show at Circa 21 Dinner Pl
 ayhouse as we enjoy the music of "The Lettermen"!\n\nFor more than 60 year
 s "The Lettermen" have been entertaining audiences throughout the country\
 , and these long-time favorites will be returning to Circa 21 Dinner Playh
 ouse.  To their credit "The Lettermen" have over 50 albums - nine certifi
 ed gold as well as myriad hits including: “When I Fall In Love\,” “P
 ut Your Head On My Shoulder\,” “Goin’ Out Of My Head\,” “Can’t
  Take My Eyes Off Of You\,” “Hurt So Bad\,” and “Shangri-La.”  
 "The Lettermen" are truly universal entertainers whose music speaks louder
  than words.\n\nDon't miss this musical show with JH Travel and be sure to
  make your reservations quickly as this trip will fill up fast! We saw thi
 s in 2019 and EVERYONE loved the show!\n\nDepart:  9:15 a.m.\n\nReturn: 
  6:15 p.m.\n\nCost Per Person:  $156.00\n\nReservation and payment due by
  April 4\, 2022 
ATTACH;FMTTYPE=image/jpeg:https://jhtraveltours.com/wp-content/uploads/202
 1/11/TheLetterman.jpg
CATEGORIES:Day Trip
END:VEVENT
BEGIN:VTIMEZONE
TZID:America/Chicago
X-LIC-LOCATION:America/Chicago
BEGIN:DAYLIGHT
DTSTART:20220313T030000
TZOFFSETFROM:-0600
TZOFFSETTO:-0500
TZNAME:CDT
END:DAYLIGHT
END:VTIMEZONE
END:VCALENDAR