BEGIN:VCALENDAR
VERSION:2.0
PRODID:-//wp-events-plugin.com//7.2.3.1//EN
TZID:America/Chicago
X-WR-TIMEZONE:America/Chicago
BEGIN:VEVENT
UID:307@jhtraveltours.com
DTSTART;TZID=America/Chicago:20200511T091500
DTEND;TZID=America/Chicago:20200511T180000
DTSTAMP:20200415T142234Z
URL:https://jhtraveltours.com/events/the-lettermen-2020/
SUMMARY:The Lettermen - New Date soon - #_LOCATIONNAME - 11 May 20 09:15
DESCRIPTION:New Date Soon\nJoin JH Travel for a special matinee show at Cir
 ca 21 Dinner Playhouse as we enjoy the music of "The Lettermen"!\n\nFor mo
 re than 60 years "The Lettermen" have been entertaining audiences througho
 ut the country\, and these long-time favorites will be returning to Circa 
 ‘21 for their 35th consecutive year.  To their credit "The Lettermen" h
 ave over 50 albums - nine certified gold as well as myriad hits including:
  “When I Fall In Love\,” “Put Your Head On My Shoulder\,” “Goin
 ’ Out Of My Head\,” “Can’t Take My Eyes Off Of You\,” “Hurt So
  Bad\,” and “Shangri-La.”  "The Lettermen" are truly universal ente
 rtainers whose music speaks louder than words.\n\nDon't miss this entertai
 ning show with JH Travel and be sure to make your reservations quickly as 
 this trip will fill up fast! We saw this in 2019 and EVERYONE loved the sh
 ow!\n\nDepart:  9:15 a.m.\n\nReturn:  6:00 p.m.\n\nCost Per Person:  $1
 48.00\n\nReservation and payment due by April 3\, 2020 
ATTACH;FMTTYPE=image/jpeg:https://jhtraveltours.com/wp-content/uploads/201
 8/07/The-Lettermen.jpg
CATEGORIES:Day Trip
END:VEVENT
BEGIN:VTIMEZONE
TZID:America/Chicago
X-LIC-LOCATION:America/Chicago
BEGIN:DAYLIGHT
DTSTART:20200308T030000
TZOFFSETFROM:-0600
TZOFFSETTO:-0500
TZNAME:CDT
END:DAYLIGHT
END:VTIMEZONE
END:VCALENDAR