BEGIN:VCALENDAR
VERSION:2.0
PRODID:-//wp-events-plugin.com//7.2.3.1//EN
TZID:America/Chicago
X-WR-TIMEZONE:America/Chicago
BEGIN:VEVENT
UID:381@jhtraveltours.com
DTSTART;TZID=America/Chicago:20230515T091500
DTEND;TZID=America/Chicago:20230515T181500
DTSTAMP:20230203T062808Z
URL:https://jhtraveltours.com/events/the-lettermen-3/
SUMMARY:The Lettermen - #_LOCATIONNAME - 15 May 23 09:15
DESCRIPTION:Join JH Travel for a special matinee show at Circa 21 Dinner Pl
 ayhouse as we enjoy the music of "The Lettermen"!\n\nFor more than 60 year
 s "The Lettermen" have been entertaining audiences throughout the country\
 , and these long-time favorites will be returning to Circa 21 Dinner Playh
 ouse.  To their credit "The Lettermen" have over 50 albums - nine certifi
 ed gold as well as myriad hits including: “When I Fall In Love\,” “P
 ut Your Head On My Shoulder\,” “Goin’ Out Of My Head\,” “Can’t
  Take My Eyes Off Of You\,” “Hurt So Bad\,” and “Shangri-La.” "T
 he Lettermen" are truly universal entertainers whose music speaks louder t
 han words.\n\nDon't miss this musical show with JH Travel and be sure to m
 ake your reservations quickly as this trip will fill up fast! We have seen
  this show in the past and EVERYONE loves the show!\n\nDepart:  9:15 a.m.
 \n\nReturn:  6:15 p.m.\n\n&nbsp\;\n\nCost Per Person:  $183.00\n\n&nbsp\
 ;\n\n($100.00 NON REFUNDABLE DEPOSIT IS DUE AT THE TIME OF SIGNUP AND THE 
 REMAINDER IS DUE BY APRIL 3\, 2023). \n\n&nbsp\;\n\nReservation and paymen
 t due by April 3\, 2023\n\n&nbsp\;\n\n&nbsp\;\nSign up for our newsletter 
 to get exclusive information!\n[mc4wp_form id=648]
ATTACH;FMTTYPE=image/jpeg:https://jhtraveltours.com/wp-content/uploads/202
 2/09/The-Lettermen-Red-Jackets-2_edited.webp
CATEGORIES:Day Trip
END:VEVENT
BEGIN:VTIMEZONE
TZID:America/Chicago
X-LIC-LOCATION:America/Chicago
BEGIN:DAYLIGHT
DTSTART:20230312T030000
TZOFFSETFROM:-0600
TZOFFSETTO:-0500
TZNAME:CDT
END:DAYLIGHT
END:VTIMEZONE
END:VCALENDAR