BEGIN:VCALENDAR
VERSION:2.0
PRODID:-//wp-events-plugin.com//7.2.3.1//EN
TZID:America/Chicago
X-WR-TIMEZONE:America/Chicago
BEGIN:VEVENT
UID:419@jhtraveltours.com
DTSTART;TZID=America/Chicago:20240513T091500
DTEND;TZID=America/Chicago:20240513T181500
DTSTAMP:20231230T044430Z
URL:https://jhtraveltours.com/events/the-lettermen-4/
SUMMARY:The Lettermen - #_LOCATIONNAME - 13 May 24 09:15
DESCRIPTION:Join JH Travel for a special matinee show at Circa 21 Dinner Pl
 ayhouse as we enjoy the music of "The Lettermen"! This will be the 36th co
 nsecutive year they have been performing at Circa 21! \n\nFor more than 60
  years "The Lettermen" have been entertaining audiences throughout the cou
 ntry\, and these long-time favorites will be returning to Circa 21 Dinner 
 Playhouse. To their credit "The Lettermen" have over 50 albums - nine cert
 ified gold as well as myriad hits including: “When I Fall In Love\,” 
 “Put Your Head On My Shoulder\,” “Goin’ Out Of My Head\,” “Can
 ’t Take My Eyes Off Of You\,” “Hurt So Bad\,” and “Shangri-La.
 ”  "The Lettermen" are truly universal entertainers whose music speaks 
 louder than words.\n\nDon't miss this musical show with JH Travel and be s
 ure to make your reservations quickly as this trip will fill up fast! \n\n
 Depart: 9:15 a.m.\n\nReturn: 6:15 p.m. \n\nCost Per Person: $186.00\n\n($1
 00.00 NON-REFUNDABLE DEPOSIT IS DUE AT THE TIME OF SIGNUP AND THE REMAINDE
 R IS DUE BY APRIL 5\, 2024).\n\nReservation and payment due by April 5\, 2
 024 \n\n&nbsp\;
ATTACH;FMTTYPE=image/jpeg:https://jhtraveltours.com/wp-content/uploads/202
 3/12/Lettermenpicandlogo.jpg
CATEGORIES:Day Trip
END:VEVENT
BEGIN:VTIMEZONE
TZID:America/Chicago
X-LIC-LOCATION:America/Chicago
BEGIN:DAYLIGHT
DTSTART:20240310T030000
TZOFFSETFROM:-0600
TZOFFSETTO:-0500
TZNAME:CDT
END:DAYLIGHT
END:VTIMEZONE
END:VCALENDAR