BEGIN:VCALENDAR
VERSION:2.0
PRODID:-//wp-events-plugin.com//7.2.3.1//EN
TZID:America/Chicago
X-WR-TIMEZONE:America/Chicago
BEGIN:VEVENT
UID:271@jhtraveltours.com
DTSTART;TZID=America/Chicago:20190513T091500
DTEND;TZID=America/Chicago:20190513T181500
DTSTAMP:20180713T210334Z
URL:https://jhtraveltours.com/events/the-lettermen/
SUMMARY:The Lettermen - #_LOCATIONNAME - 13 May 19 09:15
DESCRIPTION:Join JH Travel for a special matinee show at Circa 21 Dinner Pl
 ayhouse as we enjoy the music of "The Lettermen"!\n\nFor more than 40 year
 s "The Lettermen" have been entertaining audiences throughout the country\
 , and these long-time favorites will be returning to Circa ‘21.  To the
 ir credit "The Lettermen" have over 50 albums - nine certified gold as wel
 l as myriad hits including: “When I Fall In Love\,” “Put Your Head O
 n My Shoulder\,” “Goin’ Out Of My Head\,” “Can’t Take My Eyes 
 Off Of You\,” “Hurt So Bad\,” and “Shangri-La.”  "The Lettermen
 " are truly universal entertainers whose music speaks louder than words.\n
 \nDon't miss this entertaining show with JH Travel and be sure to make you
 r reservations quickly as we have only 38 seats available!\n\nDepart:  9:
 15 a.m.\nReturn:  6:15 p.m.\n\nCost Per Person:  $143.00\n\nReservation 
 and payment due by April 5\, 2019 
ATTACH;FMTTYPE=image/jpeg:https://jhtraveltours.com/wp-content/uploads/201
 8/07/The_Lettermen_1964.jpg
CATEGORIES:Day Trip
END:VEVENT
BEGIN:VTIMEZONE
TZID:America/Chicago
X-LIC-LOCATION:America/Chicago
BEGIN:DAYLIGHT
DTSTART:20190310T030000
TZOFFSETFROM:-0600
TZOFFSETTO:-0500
TZNAME:CDT
END:DAYLIGHT
END:VTIMEZONE
END:VCALENDAR