BEGIN:VCALENDAR
VERSION:2.0
PRODID:-//wp-events-plugin.com//7.2.3.1//EN
TZID:America/Chicago
X-WR-TIMEZONE:America/Chicago
BEGIN:VEVENT
UID:360@jhtraveltours.com
DTSTART;TZID=America/Chicago:20220309T091500
DTEND;TZID=America/Chicago:20220309T183000
DTSTAMP:20211104T171601Z
URL:https://jhtraveltours.com/events/the-play-that-goes-wrong/
SUMMARY:The Play That Goes Wrong - #_LOCATIONNAME - 9 Mar 22 09:15
DESCRIPTION:"Hilarious! Nonstop Pandemonium"\n\n Join JH Travel for our fi
 rst "2022" matinee show at Circa 21 Dinner Playhouse! Sit back\, relax and
  get ready for this fun farce!\n\nWelcome to opening night of community th
 eatre troupe\, Cornley Polytechnic Drama Society’s newest production of 
 an Agatha Christie-like 1920s murder mystery The Murder at Haversham Manor
  — where things are quickly going from bad to utterly disastrous! The s
 et\, the props\, the lighting and the sound thwart the performers at every
  turn. Eventually\, a few of these semi-amateur thespians\, demoralized b
 y disaster\, go rogue. It’s a stage manager’s worst nightmare — and
  an audience’s cue for laughter. With an unconscious leading lady\, a co
 rpse that can’t play dead\, and actors who trip over everything (includi
 ng their lines)\, the accident-prone thespians battle against all odds to 
 make it through to their final curtain!\n\nWe look forward to traveling wi
 th you in "2022"!\n\nDepart:  9:15 a.m.\n\nReturn:  6:30 p.m.\n\nCost Pe
 r Person: $148.00\n\nReservation and payment due by February 4\, 2022 
ATTACH;FMTTYPE=image/jpeg:https://jhtraveltours.com/wp-content/uploads/202
 1/11/Play-That-Goes-Wrong-Logo1-scaled-1.jpg
CATEGORIES:Day Trip
END:VEVENT
BEGIN:VTIMEZONE
TZID:America/Chicago
X-LIC-LOCATION:America/Chicago
BEGIN:STANDARD
DTSTART:20211107T010000
TZOFFSETFROM:-0500
TZOFFSETTO:-0600
TZNAME:CST
END:STANDARD
END:VTIMEZONE
END:VCALENDAR