BEGIN:VCALENDAR
VERSION:2.0
PRODID:-//wp-events-plugin.com//7.2.3.1//EN
TZID:America/Chicago
X-WR-TIMEZONE:America/Chicago
BEGIN:VEVENT
UID:347@jhtraveltours.com
DTSTART;TZID=America/Chicago;VALUE=DATE:20211201
DTEND;TZID=America/Chicago;VALUE=DATE:20211206
DTSTAMP:20210627T003948Z
URL:https://jhtraveltours.com/events/the-sidewalks-of-new-york-at-christma
 s/
SUMMARY:The Sidewalks of New York at Christmas - #_LOCATIONNAME - 1 Dec 21 
 00:00
DESCRIPTION:[pdf-embedder url="https://jhtraveltours.com/wp-content/uploads
 /2021/06/JH-NYC-NEW-2021.pdf" title="NYC 2021"]\n\nDownload brochure here.
CATEGORIES:Extended Trip
END:VEVENT
BEGIN:VTIMEZONE
TZID:America/Chicago
X-LIC-LOCATION:America/Chicago
BEGIN:STANDARD
DTSTART:20211107T010000
TZOFFSETFROM:-0500
TZOFFSETTO:-0600
TZNAME:CST
END:STANDARD
END:VTIMEZONE
END:VCALENDAR