BEGIN:VCALENDAR
VERSION:2.0
PRODID:-//wp-events-plugin.com//7.2.3.1//EN
TZID:America/Chicago
X-WR-TIMEZONE:America/Chicago
BEGIN:VEVENT
UID:246@jhtraveltours.com
DTSTART;TZID=America/Chicago:20180823T121500
DTEND;TZID=America/Chicago:20180823T193000
DTSTAMP:20171030T031837Z
URL:https://jhtraveltours.com/events/the-tin-woman/
SUMMARY:The Tin Woman - #_LOCATIONNAME - 23 Aug 18 12:15
DESCRIPTION:August 23\, 2018 (Thursday) \n\nJoin JH Travel for a matinee sh
 ow at Old Creamery Theatre followed by an evening meal at the Kava House i
 n Swisher\, IA. Get ready for a fun afternoon and an awesome meal!\n\nNew 
 from the playwright of last year’s fan favorite Making God Laugh\, this
  equally poignant and hilarious comedy reminds us that when one thing ends
 \, something new begins.  When Joy receives an unexpected gift of life\, 
 she searches for meaning on her new path and reminds us all of the importa
 nce of listening to your heart.\n\nHope to have you join us!\n\nDepart:  
 12:15 p.m.\n\nReturn:  7:30 p.m.\n\nCost Per Person: $109.00\n\nReservati
 on and payment due by August 3\, 2018 
ATTACH;FMTTYPE=image/jpeg:https://jhtraveltours.com/wp-content/uploads/201
 7/10/TheTinWoman_slide.jpg
CATEGORIES:Day Trip
END:VEVENT
BEGIN:VTIMEZONE
TZID:America/Chicago
X-LIC-LOCATION:America/Chicago
BEGIN:DAYLIGHT
DTSTART:20180311T030000
TZOFFSETFROM:-0600
TZOFFSETTO:-0500
TZNAME:CDT
END:DAYLIGHT
END:VTIMEZONE
END:VCALENDAR