BEGIN:VCALENDAR
VERSION:2.0
PRODID:-//wp-events-plugin.com//7.2.3.1//EN
TZID:America/Chicago
X-WR-TIMEZONE:America/Chicago
BEGIN:VEVENT
UID:288@jhtraveltours.com
DTSTART;TZID=America/Chicago:20191031T121500
DTEND;TZID=America/Chicago:20191031T190000
DTSTAMP:20181230T044603Z
URL:https://jhtraveltours.com/events/the-unexpected-guest/
SUMMARY:The Unexpected Guest - #_LOCATIONNAME - 31 Oct 19 12:15
DESCRIPTION:This popular production is written by Agatha Christie so be sur
 e to bring your paper &amp\; pen in order to make notes while investigatin
 g the whodunit mystery suspect! Watch for the many clues given in this mys
 tery - get ready to pay attention with eyes peeled!\n\nLost in the fog\, a
  stranger seeks shelter in a nearby house only to find a man shot dead and
  his wife standing over him with a smoking gun… Agatha Christie is at he
 r best in this chilling whodunit mystery thriller.\n\nHosting the family s
 tyle meal will be the Ronnenburg Restaurant with broasted chicken &amp\; o
 ven baked steak with all your favorite Amana fixings and pie &amp\; ice cr
 eam for dessert!\n\nCost Per Person:  $114.00\n\nReservation and payment 
 due by October 11\, 2019 
ATTACH;FMTTYPE=image/jpeg:https://jhtraveltours.com/wp-content/uploads/201
 8/12/Unexpected.png
CATEGORIES:Day Trip
END:VEVENT
BEGIN:VTIMEZONE
TZID:America/Chicago
X-LIC-LOCATION:America/Chicago
BEGIN:DAYLIGHT
DTSTART:20190310T030000
TZOFFSETFROM:-0600
TZOFFSETTO:-0500
TZNAME:CDT
END:DAYLIGHT
END:VTIMEZONE
END:VCALENDAR