BEGIN:VCALENDAR
VERSION:2.0
PRODID:-//wp-events-plugin.com//7.2.3.1//EN
TZID:America/Chicago
X-WR-TIMEZONE:America/Chicago
BEGIN:VEVENT
UID:441@jhtraveltours.com
DTSTART;TZID=America/Chicago:20250605T091500
DTEND;TZID=America/Chicago:20250605T181500
DTSTAMP:20241211T015835Z
URL:https://jhtraveltours.com/events/toby-keith-tribute/
SUMMARY:Toby Keith Tribute - #_LOCATIONNAME - 5 Jun 25 09:15
DESCRIPTION:\n\nWe are so excited to host a trip to see this matinee show a
 t Circa 21 Dinner Playhouse and we already have lots of reservations! Due 
 to the interest in this trip\, we have arranged for two coaches to attend!
  \n\nGet ready for a wild ride through the heart and soul of country music
  with TOBY\, the ultimate tribute to the bad boy of country music\, Toby K
 eith! This electrifying show is guaranteed to leave audiences on their fee
 t\, singing along to hit after hit of great country music\, all brought to
  life by the one and only Hollywood Yates! The air pulsates with anticipa
 tion as Hollywood Yates takes center stage\, belting out country music ant
 hems that have become the soundtrack to countless lives. Sing your heart o
 ut to timeless classics like “How Do You Like Me Now\,” “Should’ve
  Been a Cowboy\,” and “I Love This Bar\,” feeling every word resonat
 e deep within your soul. With every strum of the guitar and every beat of 
 the drum\, TOBY pays homage to Toby Keith’s extraordinary career\, captu
 ring the essence of his rebellious charm and his unwavering dedication to 
 his craft. Hollywood Yates embodies the spirit of this country music legen
 d\, delivering a powerhouse performance that will leave you craving more.\
 n\nGrab your cowboy hat\, put on your boots\, and get ready to experience 
 the energy\, the passion\, and the undeniable talent of Toby Keith like ne
 ver before. TOBY is a must-see show for country music lovers\, a journey t
 hat will transport you to the heart of Nashville and leave you yearning fo
 r more. Get ready to sing\, dance\, and raise a glass to the unforgettable
  legacy of Toby Keith!\n\nDon’t miss this awesome show and be sure to ma
 ke your reservations and pay your deposit SOON! \n\nDepart: 9:15 a.m. \n\n
 Return: 6:15 p.m. \n\nCost Per Person: $189.00 \n\n($100.00 NON-REFUNDABLE
  DEPOSIT IS DUE AT THE TIME OF SIGNUP AND THE REMAINDER IS DUE BY APRIL 30
 \, 2025 
ATTACH;FMTTYPE=image/jpeg:https://jhtraveltours.com/wp-content/uploads/202
 4/12/TOBY-4-1.jpg
CATEGORIES:Day Trip
END:VEVENT
BEGIN:VTIMEZONE
TZID:America/Chicago
X-LIC-LOCATION:America/Chicago
BEGIN:DAYLIGHT
DTSTART:20250309T030000
TZOFFSETFROM:-0600
TZOFFSETTO:-0500
TZNAME:CDT
END:DAYLIGHT
END:VTIMEZONE
END:VCALENDAR