BEGIN:VCALENDAR
VERSION:2.0
PRODID:-//wp-events-plugin.com//7.2.3.1//EN
TZID:America/Chicago
X-WR-TIMEZONE:America/Chicago
BEGIN:VEVENT
UID:255@jhtraveltours.com
DTSTART;TZID=America/Chicago:20181107T074500
DTEND;TZID=America/Chicago:20181107T194500
DTSTAMP:20180124T204512Z
URL:https://jhtraveltours.com/events/tribute-veterans-cruise-celebration-b
 elle/
SUMMARY:Tribute to Veterans Cruise - Celebration Belle - #_LOCATIONNAME - 7
  Nov 18 07:45
DESCRIPTION:Join JH Travel for a "Red\, White &amp\; Blue" cruise with a sp
 ecial tribute to Veterans while on board the Celebration Belle!\n\nThis cr
 uise will feature some of the songs of the Big Band Era from WWII\, songs 
 heard during the 50's during the Korean War and many songs of the Vietnam 
 Era. Songs everyone remembers and loves! Finally ending the cruise with a 
 Veterans Tribute to all the men and women who have served our country and 
 gave us the freedom that we enjoy today! God Bless America! Don't miss thi
 s one of a kind tribute to our heroes!\n\nA morning snack will greet us as
  we board the Celebration Belle followed by lunch with plenty of time to e
 njoy the music! After we depart the Belle we will cruise aboard our Hawkey
 e Stages coach to Kava House located in Swisher to enjoy a made from scrat
 ch\, home cooked meal all served by the friendly ladies at Kava House!\n\n
 Hope to have you join us for this special tribute to our Veterans aboard t
 he Celebration Belle and be sure to bring along your appetite! Come one\, 
 come all! Invite your friends &amp\; neighbors!\n\nDepart:  7:45 a.m.\n\n
 Return:  7:45 p.m.\n\nCost Per Person:  $164.00\n\nReservation and payme
 nt due by October 3\, 2018 
ATTACH;FMTTYPE=image/jpeg:https://jhtraveltours.com/wp-content/uploads/201
 8/01/Celebration-Belle.png
CATEGORIES:Day Trip
END:VEVENT
BEGIN:VTIMEZONE
TZID:America/Chicago
X-LIC-LOCATION:America/Chicago
BEGIN:STANDARD
DTSTART:20181104T010000
TZOFFSETFROM:-0500
TZOFFSETTO:-0600
TZNAME:CST
END:STANDARD
END:VTIMEZONE
END:VCALENDAR