BEGIN:VCALENDAR
VERSION:2.0
PRODID:-//wp-events-plugin.com//7.2.3.1//EN
TZID:America/Chicago
X-WR-TIMEZONE:America/Chicago
BEGIN:VEVENT
UID:266@jhtraveltours.com
DTSTART;TZID=America/Chicago:20181117T141500
DTEND;TZID=America/Chicago:20181117T201500
DTSTAMP:20180713T172501Z
URL:https://jhtraveltours.com/events/triple-espresso/
SUMMARY:Triple Espresso - #_LOCATIONNAME - 17 Nov 18 14:15
DESCRIPTION:Join JH Travel for "Iowa's Longest Running Show - Triple Espres
 so" showing at the Temple Theater in Des Moines\, Iowa.\n\nPrior to the sh
 ow join us for a late lunch at The Big Steer where a choice of four main e
 ntrees will be given. Please indicate which main entree you would like whe
 n making your reservation. The choices include: 1). Fresh Atlantic Salmon 
 2). Prime Rib 3). Chicken Deburgo 4). Iowa French Cut Pork Chop - all main
  entrees served with salad\, warm bread and one side which will be decided
  upon arrival at The Big Steer along with a non-alcoholic drink.\n\nThe hi
 ghly caffeinated comedy tells the story of the three guys whose bid for sh
 owbiz fame and fortune ended in 4 minutes of magnificent failure on nation
 al television.  Hugh Butternut\, Buzz Maxwell and Bobby Bean tell their r
 ags-to-rags story earnestly\, with hysterical results. The laughter is inf
 ectious and the comedy appeals to everyone from first graders to college s
 tudents to baby-boomers to grandparents.\n\nJoin us for an afternoon of gr
 eat food and hilarious comedy! We just have 37 seats available - don't wai
 t too long to make your reservations! \n\nDepart: 2:15 p.m.\nReturn:  8:1
 5 p.m.\n\nCost Per Person:  $163.00\n\nReservations and payment due by: 
  September 21\, 2018
ATTACH;FMTTYPE=image/jpeg:https://jhtraveltours.com/wp-content/uploads/201
 8/06/TripEsp.jpg
CATEGORIES:Day Trip
END:VEVENT
BEGIN:VTIMEZONE
TZID:America/Chicago
X-LIC-LOCATION:America/Chicago
BEGIN:STANDARD
DTSTART:20181104T010000
TZOFFSETFROM:-0500
TZOFFSETTO:-0600
TZNAME:CST
END:STANDARD
END:VTIMEZONE
END:VCALENDAR