BEGIN:VCALENDAR
VERSION:2.0
PRODID:-//wp-events-plugin.com//7.2.3.1//EN
TZID:America/Chicago
X-WR-TIMEZONE:America/Chicago
BEGIN:VEVENT
UID:68@jhtraveltours.com
DTSTART;TZID=America/Chicago:20130925T131500
DTEND;TZID=America/Chicago:20130925T201500
DTSTAMP:20121006T032714Z
URL:https://jhtraveltours.com/events/unnecessary-farce/
SUMMARY:Unnecessary Farce - #_LOCATIONNAME - 25 Sep 13 13:15
DESCRIPTION:Join JH Travel for this matinee production at the Old Creamery 
 Theatre in Amana for a side-splitting comedy on September 25\, 2013!  Her
 e’s the story:  Eight doors\, two police officers and three criminals a
 dd up to one crazy police stake-out!  Officers Eric and Billy are suppose
 d to videotape a meeting between the mayor and his accountant during an in
 vestigation of missing city funds.  However\, nothing is as it seems and 
 it becomes impossible to determine who the real criminals might be – or 
 for that matter – what might happen next.  This play is so much fun\, i
 t should be illegal!\n\nOur evening meal will be served at the Linden Hous
 e in Lynnville\, Iowa.  Get ready to laugh at this comical production and
  bring along your appetite for a wonderful family style meal!
CATEGORIES:Day Trip
LOCATION:#_LOCATIONNAME\, #_LOCATIONFULLLINE\, #_LOCATIONCOUNTRY
GEO:41.8063;-91.8843
X-APPLE-STRUCTURED-LOCATION;VALUE=URI;X-ADDRESS=#_LOCATIONFULLLINE\, #_LOCA
 TIONCOUNTRY;X-APPLE-RADIUS=100;X-TITLE=#_LOCATIONNAME:geo:41.8063,-91.8843
END:VEVENT
BEGIN:VTIMEZONE
TZID:America/Chicago
X-LIC-LOCATION:America/Chicago
BEGIN:DAYLIGHT
DTSTART:20130310T030000
TZOFFSETFROM:-0600
TZOFFSETTO:-0500
TZNAME:CDT
END:DAYLIGHT
END:VTIMEZONE
END:VCALENDAR