BEGIN:VCALENDAR
VERSION:2.0
PRODID:-//wp-events-plugin.com//7.2.3.1//EN
TZID:America/Chicago
X-WR-TIMEZONE:America/Chicago
BEGIN:VEVENT
UID:355@jhtraveltours.com
DTSTART;TZID=America/Chicago;VALUE=DATE:20220611
DTEND;TZID=America/Chicago;VALUE=DATE:20220620
DTSTAMP:20210810T011841Z
URL:https://jhtraveltours.com/events/virginia-beach-colonial-williamsburg-
 historic-norfolk/
SUMMARY:Virginia Beach\, Colonial Williamsburg & Historic Norfolk - #_LOCAT
 IONNAME - 11 Jun 22 00:00
DESCRIPTION:[pdf-embedder url="https://jhtraveltours.com/wp-content/uploads
 /2021/08/1864429-9C1701_MOD_2.pdf" title="Virginia Beach"]\n\nDownload Fly
 er Here.\n\n[pdf-embedder url="https://jhtraveltours.com/wp-content/upload
 s/2021/08/Virginia-Beach-INS-2022.pdf" title="Virginia Beach INS 2022"]\n\
 nDownload Insurance Flyer Here.
CATEGORIES:Extended Trip
END:VEVENT
BEGIN:VTIMEZONE
TZID:America/Chicago
X-LIC-LOCATION:America/Chicago
BEGIN:DAYLIGHT
DTSTART:20220313T030000
TZOFFSETFROM:-0600
TZOFFSETTO:-0500
TZNAME:CDT
END:DAYLIGHT
END:VTIMEZONE
END:VCALENDAR